BEGIN:VCALENDAR
VERSION:2.0
PRODID:-//Peachtree Road United Methodist Church - ECPv6.15.17.1//NONSGML v1.0//EN
CALSCALE:GREGORIAN
METHOD:PUBLISH
X-WR-CALNAME:Peachtree Road United Methodist Church
X-ORIGINAL-URL:https://www.prumc.org
X-WR-CALDESC:Events for Peachtree Road United Methodist Church
REFRESH-INTERVAL;VALUE=DURATION:PT1H
X-Robots-Tag:noindex
X-PUBLISHED-TTL:PT1H
BEGIN:VTIMEZONE
TZID:America/Indiana/Indianapolis
BEGIN:DAYLIGHT
TZOFFSETFROM:-0500
TZOFFSETTO:-0400
TZNAME:EDT
DTSTART:20230312T070000
END:DAYLIGHT
BEGIN:STANDARD
TZOFFSETFROM:-0400
TZOFFSETTO:-0500
TZNAME:EST
DTSTART:20231105T060000
END:STANDARD
BEGIN:DAYLIGHT
TZOFFSETFROM:-0500
TZOFFSETTO:-0400
TZNAME:EDT
DTSTART:20240310T070000
END:DAYLIGHT
BEGIN:STANDARD
TZOFFSETFROM:-0400
TZOFFSETTO:-0500
TZNAME:EST
DTSTART:20241103T060000
END:STANDARD
BEGIN:DAYLIGHT
TZOFFSETFROM:-0500
TZOFFSETTO:-0400
TZNAME:EDT
DTSTART:20250309T070000
END:DAYLIGHT
BEGIN:STANDARD
TZOFFSETFROM:-0400
TZOFFSETTO:-0500
TZNAME:EST
DTSTART:20251102T060000
END:STANDARD
END:VTIMEZONE
BEGIN:VEVENT
DTSTART;TZID=America/Indiana/Indianapolis:20241103T123000
DTEND;TZID=America/Indiana/Indianapolis:20241103T150000
DTSTAMP:20260421T132216
CREATED:20240819T181147Z
LAST-MODIFIED:20240827T194219Z
UID:10000749-1730637000-1730646000@www.prumc.org
SUMMARY:3 Practices: Session II
DESCRIPTION:What do you do when you discover you are with someone who disagrees with you on politics or religion or important social issues? Most of us just do our best to avoid those conversations altogether. However\, is there a better way? Is there a way of engaging with others who think differently than we do that honors Christ? 3 Practices for Crossing the Difference Divide by Jim Henderson and Jim Hancock offers a process that seeks to do just that. The process focuses upon gaining clarity and understanding rather than agreement. These practices provide a framework so you can have healthy conversations on a variety of topics. This fall\, our own Claire Bowen will offer a workshop to introduce you to this framework so you can learn to live by the three practices also. The workshop will be presented on two different dates\, and you can choose the one more convenient to you. We hope this will help serve as a tool for you to use in the days to come. \nRegister here. \nSession II Sunday\, November 3\, 12:30 – 3:00 pm\nLed by Claire Bowen\, Certified Circle Leaders\, and PRUMC Clergy \n 
URL:https://www.prumc.org/event/3-practices-session-ii/
LOCATION:PRUMC\, 3180 Peachtree Road\, NE\, Atlanta\, GA\, 30305\, United States
CATEGORIES:Adult Education
ATTACH;FMTTYPE=image/jpeg:https://www.prumc.org/wp-content/uploads/2024/08/3_Practices_1920_v1-scaled.jpg
ORGANIZER;CN="Peachtree Road United Methodist Church":MAILTO:info@prumc.org
END:VEVENT
BEGIN:VEVENT
DTSTART;TZID=America/Indiana/Indianapolis:20241120T183000
DTEND;TZID=America/Indiana/Indianapolis:20241120T193000
DTSTAMP:20260421T132216
CREATED:20241016T201224Z
LAST-MODIFIED:20241028T230906Z
UID:10000790-1732127400-1732131000@www.prumc.org
SUMMARY:The Spirit of Our Politics Forum with Michael Wear
DESCRIPTION:Join us for a special forum hosted by the Deep Waters Bible Study featuring Michael Wear and his book\, The Spirit of our Politics: Spiritual Formation and the Renovation of the Public Life. \nMichael is an author\, speaker\, and the President and CEO of the Center for Christianity and Public Life. His book The Spirit of our Politics observes that political division is negatively shaping who we are becoming. He calls for a new approach to politics that fosters healing over hatred and inspires hope rather than despair. \nJoin us as we seek to find healing and hope despite our differences. \nREGISTER HERE \n“I have seen our politics up close. I’ve briefed a president in the Oval Office. I’ve been a participant in our political and public life for nearly two decades. I’ve seen communities change and lives made better because of politics\, just as I’ve seen the opposite. What I can promise you is that it is people who make the difference\, and it does not take many people acting differently to make a difference in our politics and in people’s lives. Spiritual formation is central to civic renewal.” Michael Wear
URL:https://www.prumc.org/event/the-spirit-of-our-politics-forum-with-michael-wear/
LOCATION:Grace Hall\, 3180 Peachtree Rd NE\, Atlanta\, GA\, 30305\, United States
CATEGORIES:Adult Education
ATTACH;FMTTYPE=image/jpeg:https://www.prumc.org/wp-content/uploads/2024/09/Michael_Wear_Quote_1920_v1-scaled.jpg
ORGANIZER;CN="Peachtree Road United Methodist Church":MAILTO:info@prumc.org
END:VEVENT
END:VCALENDAR