BEGIN:VCALENDAR
VERSION:2.0
PRODID:-//Peachtree Road United Methodist Church - ECPv6.15.17.1//NONSGML v1.0//EN
CALSCALE:GREGORIAN
METHOD:PUBLISH
X-ORIGINAL-URL:https://www.prumc.org
X-WR-CALDESC:Events for Peachtree Road United Methodist Church
REFRESH-INTERVAL;VALUE=DURATION:PT1H
X-Robots-Tag:noindex
X-PUBLISHED-TTL:PT1H
BEGIN:VTIMEZONE
TZID:America/Indiana/Indianapolis
BEGIN:DAYLIGHT
TZOFFSETFROM:-0500
TZOFFSETTO:-0400
TZNAME:EDT
DTSTART:20250309T070000
END:DAYLIGHT
BEGIN:STANDARD
TZOFFSETFROM:-0400
TZOFFSETTO:-0500
TZNAME:EST
DTSTART:20251102T060000
END:STANDARD
BEGIN:DAYLIGHT
TZOFFSETFROM:-0500
TZOFFSETTO:-0400
TZNAME:EDT
DTSTART:20260308T070000
END:DAYLIGHT
BEGIN:STANDARD
TZOFFSETFROM:-0400
TZOFFSETTO:-0500
TZNAME:EST
DTSTART:20261101T060000
END:STANDARD
BEGIN:DAYLIGHT
TZOFFSETFROM:-0500
TZOFFSETTO:-0400
TZNAME:EDT
DTSTART:20270314T070000
END:DAYLIGHT
BEGIN:STANDARD
TZOFFSETFROM:-0400
TZOFFSETTO:-0500
TZNAME:EST
DTSTART:20271107T060000
END:STANDARD
END:VTIMEZONE
BEGIN:VEVENT
DTSTART;TZID=America/Indiana/Indianapolis:20260425T110000
DTEND;TZID=America/Indiana/Indianapolis:20260425T120000
DTSTAMP:20260422T062104
CREATED:20260324T150231Z
LAST-MODIFIED:20260410T180250Z
UID:10001700-1777114800-1777118400@www.prumc.org
SUMMARY:PRUMC Annual Children's Choir Musical
DESCRIPTION:“Noah” doubt about it—you’ll want to be there!\nCome cheer on our children as they share the beloved story of trust\, promise\, and God’s faithfulness in 100% Chance of Rain. This lively retelling of Noah’s Ark features catchy songs\, colorful sets\, and the talented young voices of our PRUMC choirs. It’s a performance all ages will enjoy—we hope you’ll be part of it! No RSVP necessary.
URL:https://www.prumc.org/event/prumc-annual-childrens-choir-musical/
LOCATION:Harp Student Center\, 3180 Peachtree Rd NE\, Atlanta\, GA\, 30305\, United States
CATEGORIES:Children,Choir,Home Page,Music
ATTACH;FMTTYPE=image/jpeg:https://www.prumc.org/wp-content/uploads/2026/03/Childrens_Musical_2026_Ark_1920-scaled.jpg
ORGANIZER;CN="Peachtree Road United Methodist Church":MAILTO:info@prumc.org
END:VEVENT
BEGIN:VEVENT
DTSTART;TZID=America/Indiana/Indianapolis:20260426T111500
DTEND;TZID=America/Indiana/Indianapolis:20260426T121500
DTSTAMP:20260422T062104
CREATED:20260324T152328Z
LAST-MODIFIED:20260410T184309Z
UID:10001705-1777202100-1777205700@www.prumc.org
SUMMARY:Baby Day
DESCRIPTION:10:45 am arrival time\, Heritage Hall\n11:15 am worship service\, Sanctuary \nOn this special day\, all babies born to church members between March 1\, 2025 and February 28\, 2026 will be honored at the 11:15 worship service. \nImmediately after the presentation of babies in worship\, parents will enjoy a complimentary brunch in Heritage Hall. \nGrandparents and older siblings are welcome to join us for brunch; however\, only parents and babies participate in the worship presentation. \nWe look forward to your presence and to sharing this special day with your family!
URL:https://www.prumc.org/event/baby-day-april-26-2026/
LOCATION:Sanctuary\, 3180 Peachtree Rd NE\, Atlanta\, GA\, 30305\, United States
CATEGORIES:Children,Home Page,Worship
ATTACH;FMTTYPE=image/jpeg:https://www.prumc.org/wp-content/uploads/2022/08/Bill-Baby-Baptism.jpg
ORGANIZER;CN="Peachtree Road United Methodist Church":MAILTO:info@prumc.org
END:VEVENT
END:VCALENDAR