BEGIN:VCALENDAR
VERSION:2.0
PRODID:-//Peachtree Road United Methodist Church - ECPv6.15.17.1//NONSGML v1.0//EN
CALSCALE:GREGORIAN
METHOD:PUBLISH
X-WR-CALNAME:Peachtree Road United Methodist Church
X-ORIGINAL-URL:https://www.prumc.org
X-WR-CALDESC:Events for Peachtree Road United Methodist Church
REFRESH-INTERVAL;VALUE=DURATION:PT1H
X-Robots-Tag:noindex
X-PUBLISHED-TTL:PT1H
BEGIN:VTIMEZONE
TZID:America/Indiana/Indianapolis
BEGIN:DAYLIGHT
TZOFFSETFROM:-0500
TZOFFSETTO:-0400
TZNAME:EDT
DTSTART:20230312T070000
END:DAYLIGHT
BEGIN:STANDARD
TZOFFSETFROM:-0400
TZOFFSETTO:-0500
TZNAME:EST
DTSTART:20231105T060000
END:STANDARD
BEGIN:DAYLIGHT
TZOFFSETFROM:-0500
TZOFFSETTO:-0400
TZNAME:EDT
DTSTART:20240310T070000
END:DAYLIGHT
BEGIN:STANDARD
TZOFFSETFROM:-0400
TZOFFSETTO:-0500
TZNAME:EST
DTSTART:20241103T060000
END:STANDARD
BEGIN:DAYLIGHT
TZOFFSETFROM:-0500
TZOFFSETTO:-0400
TZNAME:EDT
DTSTART:20250309T070000
END:DAYLIGHT
BEGIN:STANDARD
TZOFFSETFROM:-0400
TZOFFSETTO:-0500
TZNAME:EST
DTSTART:20251102T060000
END:STANDARD
END:VTIMEZONE
BEGIN:VEVENT
DTSTART;TZID=America/Indiana/Indianapolis:20240602T110000
DTEND;TZID=America/Indiana/Indianapolis:20240602T130000
DTSTAMP:20260419T223451
CREATED:20240501T012823Z
LAST-MODIFIED:20240501T013139Z
UID:10000259-1717326000-1717333200@www.prumc.org
SUMMARY:Fellowship Lunch & Varsity Celebration
DESCRIPTION:Happy birthday Peachtree Road! Please make plans to join us for a complimentary lunch catered by The Varsity and birthday cake to celebrate! On this memorable day\, we will also commemorate our centennial with special dedications throughout the campus. Save the date and look for more details coming soon.
URL:https://www.prumc.org/event/fellowship-lunch-varsity-celebration/
LOCATION:Grace Hall\, 3180 Peachtree Rd NE\, Atlanta\, GA\, 30305\, United States
CATEGORIES:Food Service
ORGANIZER;CN="Peachtree Road United Methodist Church":MAILTO:info@prumc.org
END:VEVENT
BEGIN:VEVENT
DTSTART;TZID=America/Indiana/Indianapolis:20240623T110000
DTEND;TZID=America/Indiana/Indianapolis:20240623T130000
DTSTAMP:20260419T223451
CREATED:20240501T021114Z
LAST-MODIFIED:20240501T021214Z
UID:10000265-1719140400-1719147600@www.prumc.org
SUMMARY:Fried Chicken Fellowship Luncheon
DESCRIPTION:Join us for a delicious meal and warm fellowship with your church family. Enjoy fried chicken\, potato salad\, tomato & cucumber salad\, and peach cobbler. This meal is complimentary. We look forward to seeing you!
URL:https://www.prumc.org/event/fried-chicken-fellowship-luncheon/
LOCATION:Grace Hall\, 3180 Peachtree Rd NE\, Atlanta\, GA\, 30305\, United States
CATEGORIES:Food Service
ORGANIZER;CN="Peachtree Road United Methodist Church":MAILTO:info@prumc.org
END:VEVENT
END:VCALENDAR