BEGIN:VCALENDAR
VERSION:2.0
PRODID:-//Peachtree Road United Methodist Church - ECPv6.15.17.1//NONSGML v1.0//EN
CALSCALE:GREGORIAN
METHOD:PUBLISH
X-WR-CALNAME:Peachtree Road United Methodist Church
X-ORIGINAL-URL:https://www.prumc.org
X-WR-CALDESC:Events for Peachtree Road United Methodist Church
REFRESH-INTERVAL;VALUE=DURATION:PT1H
X-Robots-Tag:noindex
X-PUBLISHED-TTL:PT1H
BEGIN:VTIMEZONE
TZID:America/Indiana/Indianapolis
BEGIN:DAYLIGHT
TZOFFSETFROM:-0500
TZOFFSETTO:-0400
TZNAME:EDT
DTSTART:20240310T070000
END:DAYLIGHT
BEGIN:STANDARD
TZOFFSETFROM:-0400
TZOFFSETTO:-0500
TZNAME:EST
DTSTART:20241103T060000
END:STANDARD
BEGIN:DAYLIGHT
TZOFFSETFROM:-0500
TZOFFSETTO:-0400
TZNAME:EDT
DTSTART:20250309T070000
END:DAYLIGHT
BEGIN:STANDARD
TZOFFSETFROM:-0400
TZOFFSETTO:-0500
TZNAME:EST
DTSTART:20251102T060000
END:STANDARD
BEGIN:DAYLIGHT
TZOFFSETFROM:-0500
TZOFFSETTO:-0400
TZNAME:EDT
DTSTART:20260308T070000
END:DAYLIGHT
BEGIN:STANDARD
TZOFFSETFROM:-0400
TZOFFSETTO:-0500
TZNAME:EST
DTSTART:20261101T060000
END:STANDARD
BEGIN:DAYLIGHT
TZOFFSETFROM:-0500
TZOFFSETTO:-0400
TZNAME:EDT
DTSTART:20270314T070000
END:DAYLIGHT
BEGIN:STANDARD
TZOFFSETFROM:-0400
TZOFFSETTO:-0500
TZNAME:EST
DTSTART:20271107T060000
END:STANDARD
END:VTIMEZONE
BEGIN:VEVENT
DTSTART;TZID=America/Indiana/Indianapolis:20251217T120000
DTEND;TZID=America/Indiana/Indianapolis:20251217T130000
DTSTAMP:20260419T195842
CREATED:20250911T183151Z
LAST-MODIFIED:20250911T183151Z
UID:10001348-1765972800-1765976400@www.prumc.org
SUMMARY:Midweek Community Lunch
DESCRIPTION:Lunch Menu:\n \n\nBreakfast for Lunch\nScrambled Eggs\nHashbrown Casserole\nBacon & Sausage\nButtermilk Biscuits\nFresh Fruit Salad
URL:https://www.prumc.org/event/midweek-community-lunch-11/
LOCATION:Grace Hall\, 3180 Peachtree Rd NE\, Atlanta\, GA\, 30305\, United States
CATEGORIES:Food Service
ORGANIZER;CN="Peachtree Road United Methodist Church":MAILTO:info@prumc.org
END:VEVENT
BEGIN:VEVENT
DTSTART;TZID=America/Indiana/Indianapolis:20260104T110000
DTEND;TZID=America/Indiana/Indianapolis:20260104T130000
DTSTAMP:20260419T195842
CREATED:20251210T193431Z
LAST-MODIFIED:20251212T155036Z
UID:10001396-1767524400-1767531600@www.prumc.org
SUMMARY:New Year's Kick-off Fellowship Luncheon
DESCRIPTION:Continue the spirit of the season by celebrating traditions and friendships. We will share warm worship\, fellowship\, and a complimentary New Year’s luncheon of Southern favorites: \n\nRoast Pork Loin\nBlack-eyed Peas\nCollard Greens\nCornbread\nApple Cake\n\nWe hope to see you there!
URL:https://www.prumc.org/event/new-years-kick-off-fellowship-luncheon/
LOCATION:Grace Hall\, 3180 Peachtree Rd NE\, Atlanta\, GA\, 30305\, United States
CATEGORIES:Food Service,Home Page
ATTACH;FMTTYPE=image/jpeg:https://www.prumc.org/wp-content/uploads/2025/12/Jan_2026_Lunch_1920_NoWords-scaled.jpg
ORGANIZER;CN="Peachtree Road United Methodist Church":MAILTO:info@prumc.org
END:VEVENT
BEGIN:VEVENT
DTSTART;TZID=America/Indiana/Indianapolis:20260107T120000
DTEND;TZID=America/Indiana/Indianapolis:20260107T130000
DTSTAMP:20260419T195842
CREATED:20260106T135639Z
LAST-MODIFIED:20260106T135639Z
UID:10001413-1767787200-1767790800@www.prumc.org
SUMMARY:Midweek Community Lunch
DESCRIPTION:Lunch Menu:\n \n\nSpaghetti with Meatballs\nCaesar Salad\nGarlic Bread Sticks\nItalian Cream Cake
URL:https://www.prumc.org/event/midweek-community-lunch-jan7/
LOCATION:Grace Hall\, 3180 Peachtree Rd NE\, Atlanta\, GA\, 30305\, United States
CATEGORIES:Food Service
ORGANIZER;CN="Peachtree Road United Methodist Church":MAILTO:info@prumc.org
END:VEVENT
BEGIN:VEVENT
DTSTART;TZID=America/Indiana/Indianapolis:20260114T120000
DTEND;TZID=America/Indiana/Indianapolis:20260114T130000
DTSTAMP:20260419T195842
CREATED:20260106T140528Z
LAST-MODIFIED:20260106T140528Z
UID:10001414-1768392000-1768395600@www.prumc.org
SUMMARY:Midweek Community Lunch
DESCRIPTION:Lunch Menu:\n \n\nWhite Chicken Chili\nCheese Quesadillas\nTex-Mex Chopped Salad\nChurro Cake
URL:https://www.prumc.org/event/midweek-community-lunch-12/
LOCATION:Grace Hall\, 3180 Peachtree Rd NE\, Atlanta\, GA\, 30305\, United States
CATEGORIES:Food Service
ORGANIZER;CN="Peachtree Road United Methodist Church":MAILTO:info@prumc.org
END:VEVENT
BEGIN:VEVENT
DTSTART;TZID=America/Indiana/Indianapolis:20260121T120000
DTEND;TZID=America/Indiana/Indianapolis:20260121T130000
DTSTAMP:20260419T195842
CREATED:20260106T140601Z
LAST-MODIFIED:20260106T140601Z
UID:10001415-1768996800-1769000400@www.prumc.org
SUMMARY:Midweek Community Lunch
DESCRIPTION:Lunch Menu:\n \n\nGrilled Chili Cheese Dogs\nFrench Fries\nColeslaw\nFresh Baked Cookies
URL:https://www.prumc.org/event/midweek-community-lunch-13/
LOCATION:Grace Hall\, 3180 Peachtree Rd NE\, Atlanta\, GA\, 30305\, United States
CATEGORIES:Food Service
ORGANIZER;CN="Peachtree Road United Methodist Church":MAILTO:info@prumc.org
END:VEVENT
BEGIN:VEVENT
DTSTART;TZID=America/Indiana/Indianapolis:20260128T120000
DTEND;TZID=America/Indiana/Indianapolis:20260128T130000
DTSTAMP:20260419T195842
CREATED:20260106T140638Z
LAST-MODIFIED:20260106T140638Z
UID:10001416-1769601600-1769605200@www.prumc.org
SUMMARY:Midweek Community Lunch
DESCRIPTION:Lunch Menu:\n \n\nChicken Club Sandwich\nCrispy Chicken / Bacon / Cheese / Lettuce & Tomato\nPotato Chips\nMixed Green Salad\nTriple Chocolate Brownies
URL:https://www.prumc.org/event/midweek-community-lunch-14/
LOCATION:Grace Hall\, 3180 Peachtree Rd NE\, Atlanta\, GA\, 30305\, United States
CATEGORIES:Food Service
ORGANIZER;CN="Peachtree Road United Methodist Church":MAILTO:info@prumc.org
END:VEVENT
BEGIN:VEVENT
DTSTART;TZID=America/Indiana/Indianapolis:20260204T120000
DTEND;TZID=America/Indiana/Indianapolis:20260204T130000
DTSTAMP:20260419T195842
CREATED:20260106T141307Z
LAST-MODIFIED:20260106T141307Z
UID:10001417-1770206400-1770210000@www.prumc.org
SUMMARY:Midweek Community Lunch
DESCRIPTION:Lunch Menu:\n \n\nBeef Carnitas\nTortillas / Pickled Onions / Cilantro Lime Crema / Queso Fresco\nTex-Mex Chopped Salad\nChips and Salsa\nSopapilla Cheesecake Bars
URL:https://www.prumc.org/event/midweek-community-lunch-15/
LOCATION:Grace Hall\, 3180 Peachtree Rd NE\, Atlanta\, GA\, 30305\, United States
CATEGORIES:Food Service
ORGANIZER;CN="Peachtree Road United Methodist Church":MAILTO:info@prumc.org
END:VEVENT
BEGIN:VEVENT
DTSTART;TZID=America/Indiana/Indianapolis:20260211T120000
DTEND;TZID=America/Indiana/Indianapolis:20260211T130000
DTSTAMP:20260419T195842
CREATED:20260106T141333Z
LAST-MODIFIED:20260106T141333Z
UID:10001418-1770811200-1770814800@www.prumc.org
SUMMARY:Midweek Community Lunch
DESCRIPTION:Lunch Menu:\n \n\nClassic Italian Lasagna\nItalian Chopped Salad\nGarlic Bread\nCannoli Poke Cake
URL:https://www.prumc.org/event/midweek-community-lunch-16/
LOCATION:Grace Hall\, 3180 Peachtree Rd NE\, Atlanta\, GA\, 30305\, United States
CATEGORIES:Food Service
ORGANIZER;CN="Peachtree Road United Methodist Church":MAILTO:info@prumc.org
END:VEVENT
BEGIN:VEVENT
DTSTART;TZID=America/Indiana/Indianapolis:20260218T120000
DTEND;TZID=America/Indiana/Indianapolis:20260218T130000
DTSTAMP:20260419T195842
CREATED:20260106T141358Z
LAST-MODIFIED:20260106T141358Z
UID:10001419-1771416000-1771419600@www.prumc.org
SUMMARY:Midweek Community Lunch
DESCRIPTION:Lunch Menu:\n \n\nTomato & Basil Soup\nGrilled Cheese Sandwiches\nMixed Green Salad\nMiracle Cookie Pie
URL:https://www.prumc.org/event/midweek-community-lunch-17/
LOCATION:Grace Hall\, 3180 Peachtree Rd NE\, Atlanta\, GA\, 30305\, United States
CATEGORIES:Food Service
ORGANIZER;CN="Peachtree Road United Methodist Church":MAILTO:info@prumc.org
END:VEVENT
BEGIN:VEVENT
DTSTART;TZID=America/Indiana/Indianapolis:20260222T110000
DTEND;TZID=America/Indiana/Indianapolis:20260222T130000
DTSTAMP:20260419T195842
CREATED:20260111T010941Z
LAST-MODIFIED:20260212T205207Z
UID:10001535-1771758000-1771765200@www.prumc.org
SUMMARY:Sunday Fellowship Luncheon
DESCRIPTION:Come enjoy warm fellowship and a delicious meal with your church family. \nOur menu features fan favorites – chili and grilled cheese. \nThis lunch is complimentary; we look forward to seeing you!
URL:https://www.prumc.org/event/sunday-fellowship-luncheon/
LOCATION:Grace Hall\, 3180 Peachtree Rd NE\, Atlanta\, GA\, 30305\, United States
CATEGORIES:Food Service,Home Page
ATTACH;FMTTYPE=image/jpeg:https://www.prumc.org/wp-content/uploads/2023/12/Jan_Lunch_1920_Chili_Blank.jpg
ORGANIZER;CN="Peachtree Road United Methodist Church":MAILTO:info@prumc.org
END:VEVENT
BEGIN:VEVENT
DTSTART;TZID=America/Indiana/Indianapolis:20260225T120000
DTEND;TZID=America/Indiana/Indianapolis:20260225T130000
DTSTAMP:20260419T195842
CREATED:20260106T141452Z
LAST-MODIFIED:20260106T141452Z
UID:10001420-1772020800-1772024400@www.prumc.org
SUMMARY:Midweek Community Lunch
DESCRIPTION:Lunch Menu:\n \n\nMeatloaf\nMashed Potatoes\nRoasted Green Beans\nYeast Rolls\nBlack Forest Chocolate Cake
URL:https://www.prumc.org/event/midweek-community-lunch-18/
LOCATION:Grace Hall\, 3180 Peachtree Rd NE\, Atlanta\, GA\, 30305\, United States
CATEGORIES:Food Service
ORGANIZER;CN="Peachtree Road United Methodist Church":MAILTO:info@prumc.org
END:VEVENT
BEGIN:VEVENT
DTSTART;TZID=America/Indiana/Indianapolis:20260304T120000
DTEND;TZID=America/Indiana/Indianapolis:20260304T130000
DTSTAMP:20260419T195842
CREATED:20260106T141524Z
LAST-MODIFIED:20260226T194347Z
UID:10001421-1772625600-1772629200@www.prumc.org
SUMMARY:Midweek Community Lunch
DESCRIPTION:Lunch Menu:\n \n\nGrilled Hamburgers\nLettuce\, Tomatoes\, Onions\, Cheese\nFrench Fries\nColeslaw\nChocolate Chip Cookies
URL:https://www.prumc.org/event/midweek-community-lunch-19/
LOCATION:Grace Hall\, 3180 Peachtree Rd NE\, Atlanta\, GA\, 30305\, United States
CATEGORIES:Food Service
ORGANIZER;CN="Peachtree Road United Methodist Church":MAILTO:info@prumc.org
END:VEVENT
BEGIN:VEVENT
DTSTART;TZID=America/Indiana/Indianapolis:20260311T120000
DTEND;TZID=America/Indiana/Indianapolis:20260311T130000
DTSTAMP:20260419T195842
CREATED:20260106T141712Z
LAST-MODIFIED:20260226T194426Z
UID:10001422-1773230400-1773234000@www.prumc.org
SUMMARY:Midweek Community Lunch
DESCRIPTION:Lunch Menu:\n \n\nPulled Pork BBQ Sandwiches\nBaked Beans\nColeslaw\nBanana Pudding
URL:https://www.prumc.org/event/midweek-community-lunch-20/
LOCATION:Grace Hall\, 3180 Peachtree Rd NE\, Atlanta\, GA\, 30305\, United States
CATEGORIES:Food Service
ORGANIZER;CN="Peachtree Road United Methodist Church":MAILTO:info@prumc.org
END:VEVENT
BEGIN:VEVENT
DTSTART;TZID=America/Indiana/Indianapolis:20260318T120000
DTEND;TZID=America/Indiana/Indianapolis:20260318T130000
DTSTAMP:20260419T195842
CREATED:20260106T141744Z
LAST-MODIFIED:20260106T141744Z
UID:10001423-1773835200-1773838800@www.prumc.org
SUMMARY:Midweek Community Lunch
DESCRIPTION:Lunch Menu:\n \n\nLunch Wednesday 3/18\nCorned Beef\nPotatoes & Cabbage\nRoasted Green Beans\nIrish Soda Bread\nGrasshopper Cake
URL:https://www.prumc.org/event/midweek-community-lunch-21/
LOCATION:Grace Hall\, 3180 Peachtree Rd NE\, Atlanta\, GA\, 30305\, United States
CATEGORIES:Food Service
ORGANIZER;CN="Peachtree Road United Methodist Church":MAILTO:info@prumc.org
END:VEVENT
BEGIN:VEVENT
DTSTART;TZID=America/Indiana/Indianapolis:20260325T120000
DTEND;TZID=America/Indiana/Indianapolis:20260325T130000
DTSTAMP:20260419T195842
CREATED:20260106T141815Z
LAST-MODIFIED:20260106T141815Z
UID:10001424-1774440000-1774443600@www.prumc.org
SUMMARY:Midweek Community Lunch
DESCRIPTION:Lunch Menu:\n \n\nChicken & Wild Rice Casserole\nRosemary Broccoli\nCheddar Biscuits\nRed Velvet Cupcakes
URL:https://www.prumc.org/event/midweek-community-lunch-22/
LOCATION:Grace Hall\, 3180 Peachtree Rd NE\, Atlanta\, GA\, 30305\, United States
CATEGORIES:Food Service
ORGANIZER;CN="Peachtree Road United Methodist Church":MAILTO:info@prumc.org
END:VEVENT
BEGIN:VEVENT
DTSTART;TZID=America/Indiana/Indianapolis:20260329T110000
DTEND;TZID=America/Indiana/Indianapolis:20260329T130000
DTSTAMP:20260419T195842
CREATED:20260111T011052Z
LAST-MODIFIED:20260326T144002Z
UID:10001536-1774782000-1774789200@www.prumc.org
SUMMARY:Sunday Fellowship Luncheon
DESCRIPTION:Come enjoy warm fellowship and a delicious meal with your church family. Enjoy \n\nglazed ham\nmac & cheese\ngreen bean salad\nrolls\, and\nstrawberry cake.\n\nThis lunch is complimentary; we look forward to seeing you!
URL:https://www.prumc.org/event/sunday-fellowship-luncheon-2/
LOCATION:Grace Hall\, 3180 Peachtree Rd NE\, Atlanta\, GA\, 30305\, United States
CATEGORIES:Food Service,Home Page
ATTACH;FMTTYPE=image/jpeg:https://www.prumc.org/wp-content/uploads/2026/01/02_Palm_Lunch_2026-scaled.jpg
ORGANIZER;CN="Peachtree Road United Methodist Church":MAILTO:info@prumc.org
END:VEVENT
BEGIN:VEVENT
DTSTART;TZID=America/Indiana/Indianapolis:20260330T120000
DTEND;TZID=America/Indiana/Indianapolis:20260330T130000
DTSTAMP:20260419T195842
CREATED:20260326T151456Z
LAST-MODIFIED:20260326T151456Z
UID:10001712-1774872000-1774875600@www.prumc.org
SUMMARY:Holy Week Community Lunch
DESCRIPTION:Lunch Menu:\n \n\nSpinach\, Bacon\, & Cheddar Quiche\nMixed Green Salad\nCrusty French Bread\nFresh Baked Cookies
URL:https://www.prumc.org/event/holy-week-community-lunch/
LOCATION:Grace Hall\, 3180 Peachtree Rd NE\, Atlanta\, GA\, 30305\, United States
CATEGORIES:Food Service
ORGANIZER;CN="Peachtree Road United Methodist Church":MAILTO:info@prumc.org
END:VEVENT
BEGIN:VEVENT
DTSTART;TZID=America/Indiana/Indianapolis:20260331T120000
DTEND;TZID=America/Indiana/Indianapolis:20260331T130000
DTSTAMP:20260419T195842
CREATED:20260326T151536Z
LAST-MODIFIED:20260326T151536Z
UID:10001713-1774958400-1774962000@www.prumc.org
SUMMARY:Holy Week Community Lunch
DESCRIPTION:Lunch Menu:\n \n\nCrispy Fried Chicken Sandwiches\nFrench Fries\nColeslaw\nChocolate Cake
URL:https://www.prumc.org/event/holy-week-community-lunch-2/
LOCATION:Grace Hall\, 3180 Peachtree Rd NE\, Atlanta\, GA\, 30305\, United States
CATEGORIES:Food Service
ORGANIZER;CN="Peachtree Road United Methodist Church":MAILTO:info@prumc.org
END:VEVENT
BEGIN:VEVENT
DTSTART;TZID=America/Indiana/Indianapolis:20260401T120000
DTEND;TZID=America/Indiana/Indianapolis:20260401T130000
DTSTAMP:20260419T195842
CREATED:20260326T151206Z
LAST-MODIFIED:20260326T151321Z
UID:10001711-1775044800-1775048400@www.prumc.org
SUMMARY:Holy Week Community Lunch
DESCRIPTION:Lunch Menu:\n \n\nBeef Taco Bar\nLettuce\, Tomatoes\, Cheese\, Sour Cream\nRefried Beans\nChips & Salsa\nTres Leche Cake
URL:https://www.prumc.org/event/midweek-community-lunch-23/
LOCATION:Grace Hall\, 3180 Peachtree Rd NE\, Atlanta\, GA\, 30305\, United States
CATEGORIES:Food Service
ORGANIZER;CN="Peachtree Road United Methodist Church":MAILTO:info@prumc.org
END:VEVENT
BEGIN:VEVENT
DTSTART;TZID=America/Indiana/Indianapolis:20260402T120000
DTEND;TZID=America/Indiana/Indianapolis:20260402T130000
DTSTAMP:20260419T195842
CREATED:20260326T151611Z
LAST-MODIFIED:20260326T151611Z
UID:10001714-1775131200-1775134800@www.prumc.org
SUMMARY:Holy Week Community Lunch
DESCRIPTION:Lunch Menu:\n \n\nChicken Salad Sandwiches\nPotato Chips\nFruit Salad\nHeath Bar Chocolate Brownies
URL:https://www.prumc.org/event/holy-week-community-lunch-3/
LOCATION:Grace Hall\, 3180 Peachtree Rd NE\, Atlanta\, GA\, 30305\, United States
CATEGORIES:Food Service
ORGANIZER;CN="Peachtree Road United Methodist Church":MAILTO:info@prumc.org
END:VEVENT
BEGIN:VEVENT
DTSTART;TZID=America/Indiana/Indianapolis:20260408T120000
DTEND;TZID=America/Indiana/Indianapolis:20260408T130000
DTSTAMP:20260419T195842
CREATED:20260326T155737Z
LAST-MODIFIED:20260327T153813Z
UID:10001717-1775649600-1775653200@www.prumc.org
SUMMARY:Midweek Community Lunch
DESCRIPTION:Lunch Menu:\n \n\nBaked Chicken & Spinach Alfredo Pasta\nItalian Chopped Salad\nGarlic Breadsticks\nTiramisu
URL:https://www.prumc.org/event/community-lunch-4/
LOCATION:Grace Hall\, 3180 Peachtree Rd NE\, Atlanta\, GA\, 30305\, United States
CATEGORIES:Food Service
ORGANIZER;CN="Peachtree Road United Methodist Church":MAILTO:info@prumc.org
END:VEVENT
BEGIN:VEVENT
DTSTART;TZID=America/Indiana/Indianapolis:20260415T120000
DTEND;TZID=America/Indiana/Indianapolis:20260415T130000
DTSTAMP:20260419T195842
CREATED:20260326T160227Z
LAST-MODIFIED:20260327T163636Z
UID:10001718-1776254400-1776258000@www.prumc.org
SUMMARY:Midweek Community Lunch
DESCRIPTION:Lunch Menu:\n \n\nGrilled Chili Cheese Dogs\nFrench Fries\nColeslaw\nFresh Baked Cookies
URL:https://www.prumc.org/event/community-lunch-5/
LOCATION:Grace Hall\, 3180 Peachtree Rd NE\, Atlanta\, GA\, 30305\, United States
CATEGORIES:Food Service
ORGANIZER;CN="Peachtree Road United Methodist Church":MAILTO:info@prumc.org
END:VEVENT
BEGIN:VEVENT
DTSTART;TZID=America/Indiana/Indianapolis:20260422T120000
DTEND;TZID=America/Indiana/Indianapolis:20260422T130000
DTSTAMP:20260419T195842
CREATED:20260326T161158Z
LAST-MODIFIED:20260327T163715Z
UID:10001719-1776859200-1776862800@www.prumc.org
SUMMARY:Midweek Community Lunch
DESCRIPTION:Lunch Menu:\n \n\nKorean BBQ Chicken\nBasmati Rice\nCucumber Salad\nKorean Cream Cheese Garlic Bread\nHoney Ginger Cakes
URL:https://www.prumc.org/event/community-lunch-6/
LOCATION:Grace Hall\, 3180 Peachtree Rd NE\, Atlanta\, GA\, 30305\, United States
CATEGORIES:Food Service
ORGANIZER;CN="Peachtree Road United Methodist Church":MAILTO:info@prumc.org
END:VEVENT
BEGIN:VEVENT
DTSTART;TZID=America/Indiana/Indianapolis:20260429T120000
DTEND;TZID=America/Indiana/Indianapolis:20260429T130000
DTSTAMP:20260419T195842
CREATED:20260327T144857Z
LAST-MODIFIED:20260327T163740Z
UID:10001720-1777464000-1777467600@www.prumc.org
SUMMARY:Midweek Community Lunch
DESCRIPTION:Lunch Menu:\n \n\nCrispy Chicken & Bacon Sandwiches\nFrench Fries\nMixed Green Salad\nHeath Bar Brownies
URL:https://www.prumc.org/event/wednesday-community-lunch/
LOCATION:Grace Hall\, 3180 Peachtree Rd NE\, Atlanta\, GA\, 30305\, United States
CATEGORIES:Food Service
ORGANIZER;CN="Peachtree Road United Methodist Church":MAILTO:info@prumc.org
END:VEVENT
BEGIN:VEVENT
DTSTART;TZID=America/Indiana/Indianapolis:20260503T110000
DTEND;TZID=America/Indiana/Indianapolis:20260503T130000
DTSTAMP:20260419T195842
CREATED:20260111T011211Z
LAST-MODIFIED:20260414T161016Z
UID:10001537-1777806000-1777813200@www.prumc.org
SUMMARY:Music Sunday Fellowship Luncheon
DESCRIPTION:Join us for a delicious meal and warm fellowship following worship on the this day. This complimentary meal is a wonderful opportunity to connect\, share conversation\, and enjoy time together.  We hope you will join us for \n\nBBQ chicken\nherb potato salad\nbroccoli salad\ncheddar biscuits\, and\ncupcakes
URL:https://www.prumc.org/event/sunday-fellowship-luncheon-3/
LOCATION:Grace Hall\, 3180 Peachtree Rd NE\, Atlanta\, GA\, 30305\, United States
CATEGORIES:Food Service
ORGANIZER;CN="Peachtree Road United Methodist Church":MAILTO:info@prumc.org
END:VEVENT
BEGIN:VEVENT
DTSTART;TZID=America/Indiana/Indianapolis:20260506T120000
DTEND;TZID=America/Indiana/Indianapolis:20260506T130000
DTSTAMP:20260419T195842
CREATED:20260327T163147Z
LAST-MODIFIED:20260327T163147Z
UID:10001727-1778068800-1778072400@www.prumc.org
SUMMARY:Midweek Community Lunch
DESCRIPTION:Lunch Menu:\n \n\nClassic Italian Lasagna\nItalian Chopped Salad\nGarlic Bread\nCannoli Poke Cake
URL:https://www.prumc.org/event/midweek-community-lunch-24/
LOCATION:Grace Hall\, 3180 Peachtree Rd NE\, Atlanta\, GA\, 30305\, United States
CATEGORIES:Food Service
ORGANIZER;CN="Peachtree Road United Methodist Church":MAILTO:info@prumc.org
END:VEVENT
BEGIN:VEVENT
DTSTART;TZID=America/Indiana/Indianapolis:20260513T120000
DTEND;TZID=America/Indiana/Indianapolis:20260513T130000
DTSTAMP:20260419T195842
CREATED:20260327T145322Z
LAST-MODIFIED:20260327T163753Z
UID:10001721-1778673600-1778677200@www.prumc.org
SUMMARY:Midweek Community Lunch
DESCRIPTION:Lunch Menu:\n \n\nChicken Salad Croissants\nChips\nMixed Green Salad\nFresh Baked Cookies
URL:https://www.prumc.org/event/wednesday-community-lunch-2/
LOCATION:Grace Hall\, 3180 Peachtree Rd NE\, Atlanta\, GA\, 30305\, United States
CATEGORIES:Food Service
ORGANIZER;CN="Peachtree Road United Methodist Church":MAILTO:info@prumc.org
END:VEVENT
BEGIN:VEVENT
DTSTART;TZID=America/Indiana/Indianapolis:20260520T120000
DTEND;TZID=America/Indiana/Indianapolis:20260520T130000
DTSTAMP:20260419T195842
CREATED:20260327T145542Z
LAST-MODIFIED:20260327T163806Z
UID:10001722-1779278400-1779282000@www.prumc.org
SUMMARY:Midweek Community Lunch
DESCRIPTION:Lunch Menu:\n \n\nGrilled Hamburgers\nFrench Fries\nColeslaw\nChocolate Cupcakes
URL:https://www.prumc.org/event/wednesday-community-lunch-3/
LOCATION:Grace Hall\, 3180 Peachtree Rd NE\, Atlanta\, GA\, 30305\, United States
CATEGORIES:Food Service
ORGANIZER;CN="Peachtree Road United Methodist Church":MAILTO:info@prumc.org
END:VEVENT
BEGIN:VEVENT
DTSTART;TZID=America/Indiana/Indianapolis:20260527T120000
DTEND;TZID=America/Indiana/Indianapolis:20260527T130000
DTSTAMP:20260419T195842
CREATED:20260327T163255Z
LAST-MODIFIED:20260327T163255Z
UID:10001728-1779883200-1779886800@www.prumc.org
SUMMARY:Midweek Community Lunch
DESCRIPTION:Lunch Menu:\n \n\nChicken Fajitas\nLettuce\, Cheese\, Sour Cream\, Pico de Gallo\nTex-Mex Chopped Salad\nChocolate Chip Cookies
URL:https://www.prumc.org/event/midweek-community-lunch-25/
LOCATION:Grace Hall\, 3180 Peachtree Rd NE\, Atlanta\, GA\, 30305\, United States
CATEGORIES:Food Service
ORGANIZER;CN="Peachtree Road United Methodist Church":MAILTO:info@prumc.org
END:VEVENT
BEGIN:VEVENT
DTSTART;TZID=America/Indiana/Indianapolis:20260603T120000
DTEND;TZID=America/Indiana/Indianapolis:20260603T130000
DTSTAMP:20260419T195842
CREATED:20260327T151217Z
LAST-MODIFIED:20260327T163832Z
UID:10001723-1780488000-1780491600@www.prumc.org
SUMMARY:Midweek Community Lunch
DESCRIPTION:Lunch Menu:\n \n\nBBQ Chicken\nBaked Beans\nColeslaw\nBanana Pudding
URL:https://www.prumc.org/event/wednesday-community-lunch-4/
LOCATION:Grace Hall\, 3180 Peachtree Rd NE\, Atlanta\, GA\, 30305\, United States
CATEGORIES:Food Service
ORGANIZER;CN="Peachtree Road United Methodist Church":MAILTO:info@prumc.org
END:VEVENT
END:VCALENDAR