BEGIN:VCALENDAR
VERSION:2.0
PRODID:-//Peachtree Road United Methodist Church - ECPv6.15.17.1//NONSGML v1.0//EN
CALSCALE:GREGORIAN
METHOD:PUBLISH
X-ORIGINAL-URL:https://www.prumc.org
X-WR-CALDESC:Events for Peachtree Road United Methodist Church
REFRESH-INTERVAL;VALUE=DURATION:PT1H
X-Robots-Tag:noindex
X-PUBLISHED-TTL:PT1H
BEGIN:VTIMEZONE
TZID:America/Indiana/Indianapolis
BEGIN:DAYLIGHT
TZOFFSETFROM:-0500
TZOFFSETTO:-0400
TZNAME:EDT
DTSTART:20250309T070000
END:DAYLIGHT
BEGIN:STANDARD
TZOFFSETFROM:-0400
TZOFFSETTO:-0500
TZNAME:EST
DTSTART:20251102T060000
END:STANDARD
BEGIN:DAYLIGHT
TZOFFSETFROM:-0500
TZOFFSETTO:-0400
TZNAME:EDT
DTSTART:20260308T070000
END:DAYLIGHT
BEGIN:STANDARD
TZOFFSETFROM:-0400
TZOFFSETTO:-0500
TZNAME:EST
DTSTART:20261101T060000
END:STANDARD
BEGIN:DAYLIGHT
TZOFFSETFROM:-0500
TZOFFSETTO:-0400
TZNAME:EDT
DTSTART:20270314T070000
END:DAYLIGHT
BEGIN:STANDARD
TZOFFSETFROM:-0400
TZOFFSETTO:-0500
TZNAME:EST
DTSTART:20271107T060000
END:STANDARD
END:VTIMEZONE
BEGIN:VEVENT
DTSTART;TZID=America/Indiana/Indianapolis:20261018T110000
DTEND;TZID=America/Indiana/Indianapolis:20261018T130000
DTSTAMP:20260420T001136
CREATED:20260111T011342Z
LAST-MODIFIED:20260111T011342Z
UID:10001539-1792321200-1792328400@www.prumc.org
SUMMARY:Sunday Fellowship Luncheon
DESCRIPTION:Come enjoy warm fellowship and a delicious meal with your church family. This lunch is complimentary; we look forward to seeing you!
URL:https://www.prumc.org/event/sunday-fellowship-luncheon-5/
LOCATION:Grace Hall\, 3180 Peachtree Rd NE\, Atlanta\, GA\, 30305\, United States
CATEGORIES:Food Service
ORGANIZER;CN="Peachtree Road United Methodist Church":MAILTO:info@prumc.org
END:VEVENT
BEGIN:VEVENT
DTSTART;TZID=America/Indiana/Indianapolis:20261122T110000
DTEND;TZID=America/Indiana/Indianapolis:20261122T130000
DTSTAMP:20260420T001136
CREATED:20260111T011443Z
LAST-MODIFIED:20260111T011443Z
UID:10001540-1795345200-1795352400@www.prumc.org
SUMMARY:Sunday Fellowship Luncheon
DESCRIPTION:Come enjoy warm fellowship and a delicious meal with your church family. This lunch is complimentary; we look forward to seeing you!
URL:https://www.prumc.org/event/sunday-fellowship-luncheon-6/
LOCATION:Grace Hall\, 3180 Peachtree Rd NE\, Atlanta\, GA\, 30305\, United States
CATEGORIES:Food Service
ORGANIZER;CN="Peachtree Road United Methodist Church":MAILTO:info@prumc.org
END:VEVENT
END:VCALENDAR