BEGIN:VCALENDAR
VERSION:2.0
PRODID:-//Peachtree Road United Methodist Church - ECPv6.15.17.1//NONSGML v1.0//EN
CALSCALE:GREGORIAN
METHOD:PUBLISH
X-WR-CALNAME:Peachtree Road United Methodist Church
X-ORIGINAL-URL:https://www.prumc.org
X-WR-CALDESC:Events for Peachtree Road United Methodist Church
REFRESH-INTERVAL;VALUE=DURATION:PT1H
X-Robots-Tag:noindex
X-PUBLISHED-TTL:PT1H
BEGIN:VTIMEZONE
TZID:America/Indiana/Indianapolis
BEGIN:DAYLIGHT
TZOFFSETFROM:-0500
TZOFFSETTO:-0400
TZNAME:EDT
DTSTART:20240310T070000
END:DAYLIGHT
BEGIN:STANDARD
TZOFFSETFROM:-0400
TZOFFSETTO:-0500
TZNAME:EST
DTSTART:20241103T060000
END:STANDARD
BEGIN:DAYLIGHT
TZOFFSETFROM:-0500
TZOFFSETTO:-0400
TZNAME:EDT
DTSTART:20250309T070000
END:DAYLIGHT
BEGIN:STANDARD
TZOFFSETFROM:-0400
TZOFFSETTO:-0500
TZNAME:EST
DTSTART:20251102T060000
END:STANDARD
BEGIN:DAYLIGHT
TZOFFSETFROM:-0500
TZOFFSETTO:-0400
TZNAME:EDT
DTSTART:20260308T070000
END:DAYLIGHT
BEGIN:STANDARD
TZOFFSETFROM:-0400
TZOFFSETTO:-0500
TZNAME:EST
DTSTART:20261101T060000
END:STANDARD
END:VTIMEZONE
BEGIN:VEVENT
DTSTART;TZID=America/Indiana/Indianapolis:20250808T070000
DTEND;TZID=America/Indiana/Indianapolis:20250808T080000
DTSTAMP:20260419T081843
CREATED:20250528T120415Z
LAST-MODIFIED:20250627T204445Z
UID:10001103-1754636400-1754640000@www.prumc.org
SUMMARY:Men's Breakfast with Ed Hamlin
DESCRIPTION:PRUMC’s men’s breakfasts are a great way to expand your connections within the church and grow in your faith. We have a guest speaker for each event\, and our guest speaker for this breakfast is Ed Hamlin. Ed is the Executive Vice President of Logility supply chain solutions in Atlanta\, GA. Ed has also facilitated Disciple Bible Study classes at Peachtree Road UMC for over 20 years. \nMany in our church feel the Disciple Bible Study Program has had the most significant positive impact on the lives of our church members. Ed will offer his testimony concerning the effects of Disciple on PRUMC while honoring one of the former associate ministers who was instrumental in rolling out the Disciple program at PRUMC\, John Cromartie. \nThe church recently honored John by creating an award in his name. We invite you to join the men of the church for an inspiring conversation as we discuss the Bible\, the legacy of the Disciple Bible Study Program\, and its impact on PRUMC. Please register today and mark your calendar.
URL:https://www.prumc.org/event/mens-breakfast-ed-hamlin/
LOCATION:Heritage Hall\, 3180 Peachtree Rd NE\, Atlanta\, GA\, 30305\, United States
CATEGORIES:Home Page,Men
ATTACH;FMTTYPE=image/jpeg:https://www.prumc.org/wp-content/uploads/2025/05/Ed_Hamlin_Breakfast_1920-scaled.jpg
ORGANIZER;CN="Peachtree Road United Methodist Church":MAILTO:info@prumc.org
END:VEVENT
END:VCALENDAR