BEGIN:VCALENDAR
VERSION:2.0
PRODID:-//Peachtree Road United Methodist Church - ECPv6.15.17.1//NONSGML v1.0//EN
CALSCALE:GREGORIAN
METHOD:PUBLISH
X-ORIGINAL-URL:https://www.prumc.org
X-WR-CALDESC:Events for Peachtree Road United Methodist Church
REFRESH-INTERVAL;VALUE=DURATION:PT1H
X-Robots-Tag:noindex
X-PUBLISHED-TTL:PT1H
BEGIN:VTIMEZONE
TZID:America/Indiana/Indianapolis
BEGIN:DAYLIGHT
TZOFFSETFROM:-0500
TZOFFSETTO:-0400
TZNAME:EDT
DTSTART:20250309T070000
END:DAYLIGHT
BEGIN:STANDARD
TZOFFSETFROM:-0400
TZOFFSETTO:-0500
TZNAME:EST
DTSTART:20251102T060000
END:STANDARD
BEGIN:DAYLIGHT
TZOFFSETFROM:-0500
TZOFFSETTO:-0400
TZNAME:EDT
DTSTART:20260308T070000
END:DAYLIGHT
BEGIN:STANDARD
TZOFFSETFROM:-0400
TZOFFSETTO:-0500
TZNAME:EST
DTSTART:20261101T060000
END:STANDARD
BEGIN:DAYLIGHT
TZOFFSETFROM:-0500
TZOFFSETTO:-0400
TZNAME:EDT
DTSTART:20270314T070000
END:DAYLIGHT
BEGIN:STANDARD
TZOFFSETFROM:-0400
TZOFFSETTO:-0500
TZNAME:EST
DTSTART:20271107T060000
END:STANDARD
END:VTIMEZONE
BEGIN:VEVENT
DTSTART;TZID=America/Indiana/Indianapolis:20260304T183000
DTEND;TZID=America/Indiana/Indianapolis:20260304T193000
DTSTAMP:20260419T111846
CREATED:20260219T203112Z
LAST-MODIFIED:20260224T160939Z
UID:10001676-1772649000-1772652600@www.prumc.org
SUMMARY:Deep Waters: AI and Faith
DESCRIPTION:Deep Waters: AI and Faith\nWednesdays\, February 25 – March 18\, 6:30 pm\, C208\n\nFollowing our recent A.I. Panel Discussion\, this four-part series invites us to continue the conversation at the intersection of technology\, ethics\, and Christian faith. Each session will be led by a different facilitator\, including Dr. Bo Adams\, Rev. Geoff Beakley\, Rev. Elizabeth Byrd\, and Chris Gabriel\, offering thoughtful perspectives on how artificial intelligence is shaping our lives\, our decision-making\, and our understanding of what it means to be human. Together\, we will explore faithful\, grounded ways to engage emerging technologies with wisdom\, discernment\, and hope. If you are unable to attend in person\, you may participate online via Zoom here.
URL:https://www.prumc.org/event/deep-waters-ai-and-faith-march-4-2026/
LOCATION:C208\, 3180 Peachtree Road\, NE\, Atlanta\, GA\, 30033\, United States
CATEGORIES:Adult Education,Men,Older Adults,Women,Young Adults
ATTACH;FMTTYPE=image/jpeg:https://www.prumc.org/wp-content/uploads/2026/02/07_Deep_Waters_AI_1920-scaled.jpg
ORGANIZER;CN="Peachtree Road United Methodist Church":MAILTO:info@prumc.org
END:VEVENT
BEGIN:VEVENT
DTSTART;TZID=America/Indiana/Indianapolis:20260311T183000
DTEND;TZID=America/Indiana/Indianapolis:20260311T193000
DTSTAMP:20260419T111846
CREATED:20260219T203152Z
LAST-MODIFIED:20260224T161021Z
UID:10001677-1773253800-1773257400@www.prumc.org
SUMMARY:Deep Waters: AI and Faith
DESCRIPTION:Deep Waters: AI and Faith\nWednesdays\, February 25 – March 18\, 6:30 pm\, C208\n\nFollowing our recent A.I. Panel Discussion\, this four-part series invites us to continue the conversation at the intersection of technology\, ethics\, and Christian faith. Each session will be led by a different facilitator\, including Dr. Bo Adams\, Rev. Geoff Beakley\, Rev. Elizabeth Byrd\, and Chris Gabriel\, offering thoughtful perspectives on how artificial intelligence is shaping our lives\, our decision-making\, and our understanding of what it means to be human. Together\, we will explore faithful\, grounded ways to engage emerging technologies with wisdom\, discernment\, and hope. If you are unable to attend in person\, you may participate online via Zoom here.
URL:https://www.prumc.org/event/deep-waters-ai-and-faith-march-11-2026/
LOCATION:C208\, 3180 Peachtree Road\, NE\, Atlanta\, GA\, 30033\, United States
CATEGORIES:Adult Education,Men,Older Adults,Women,Young Adults
ATTACH;FMTTYPE=image/jpeg:https://www.prumc.org/wp-content/uploads/2026/02/07_Deep_Waters_AI_1920-scaled.jpg
ORGANIZER;CN="Peachtree Road United Methodist Church":MAILTO:info@prumc.org
END:VEVENT
BEGIN:VEVENT
DTSTART;VALUE=DATE:20260312
DTEND;VALUE=DATE:20260323
DTSTAMP:20260419T111846
CREATED:20260111T183811Z
LAST-MODIFIED:20260111T183811Z
UID:10001556-1773273600-1774223999@www.prumc.org
SUMMARY:Men’s Mission Trip to Kenya (FULL)
DESCRIPTION:In 2026\, PRUMC will send two teams to Kenya to provide clean water\, hygiene education\, and sustainable community support—efforts that truly change lives. SWOK & PRUMC have already helped improve the lives of over 500\,000 people by providing access to clean\, safe water. PRUMC Men will help make a lasting difference through service\, faith\, and partnership.
URL:https://www.prumc.org/event/mens-mission-trip-to-kenya-full/
LOCATION:PRUMC\, 3180 Peachtree Road\, NE\, Atlanta\, GA\, 30305\, United States
CATEGORIES:Global Missions,Men
ORGANIZER;CN="Peachtree Road United Methodist Church":MAILTO:info@prumc.org
END:VEVENT
BEGIN:VEVENT
DTSTART;TZID=America/Indiana/Indianapolis:20260318T183000
DTEND;TZID=America/Indiana/Indianapolis:20260318T193000
DTSTAMP:20260419T111846
CREATED:20260219T203236Z
LAST-MODIFIED:20260224T161044Z
UID:10001678-1773858600-1773862200@www.prumc.org
SUMMARY:Deep Waters: AI and Faith
DESCRIPTION:Deep Waters: AI and Faith\nWednesdays\, February 25 – March 18\, 6:30 pm\, C208\nFollowing our recent A.I. Panel Discussion\, this four-part series invites us to continue the conversation at the intersection of technology\, ethics\, and Christian faith. Each session will be led by a different facilitator\, including Dr. Bo Adams\, Rev. Geoff Beakley\, Rev. Elizabeth Byrd\, and Chris Gabriel\, offering thoughtful perspectives on how artificial intelligence is shaping our lives\, our decision-making\, and our understanding of what it means to be human. Together\, we will explore faithful\, grounded ways to engage emerging technologies with wisdom\, discernment\, and hope. If you are unable to attend in person\, you may participate online via Zoom here.
URL:https://www.prumc.org/event/deep-waters-ai-and-faith-march-18-2026/
LOCATION:C208\, 3180 Peachtree Road\, NE\, Atlanta\, GA\, 30033\, United States
CATEGORIES:Adult Education,Men,Older Adults,Women,Young Adults
ATTACH;FMTTYPE=image/jpeg:https://www.prumc.org/wp-content/uploads/2026/02/07_Deep_Waters_AI_1920-scaled.jpg
ORGANIZER;CN="Peachtree Road United Methodist Church":MAILTO:info@prumc.org
END:VEVENT
BEGIN:VEVENT
DTSTART;TZID=America/Indiana/Indianapolis:20260326T180000
DTEND;TZID=America/Indiana/Indianapolis:20260327T140000
DTSTAMP:20260419T111846
CREATED:20241211T143524Z
LAST-MODIFIED:20260111T003343Z
UID:10000846-1774548000-1774620000@www.prumc.org
SUMMARY:Men's Quail Hunt
DESCRIPTION:Enjoy great meals\, fellowship\, and a tall tales around the fire pit at PRUMC’s annual men’s Quail Hunt! All skill levels are welcome\, with a two-hour training session provided by The Burge Club staff for novice hunters. \nThe deadline to register is March 1\, 2026. \nFor more information\, contact Rev. Geoff Beakley at geoffb@prumc.org.
URL:https://www.prumc.org/event/mens-quail-hunt/
LOCATION:The Burge Club\, 44 Jeff Cook Rd\, Mansfield\, GA\, 30055\, United States
CATEGORIES:Men,Older Adults,Young Adults
ORGANIZER;CN="Peachtree Road United Methodist Church":MAILTO:info@prumc.org
END:VEVENT
BEGIN:VEVENT
DTSTART;TZID=America/Indiana/Indianapolis:20260329T180000
DTEND;TZID=America/Indiana/Indianapolis:20260329T190000
DTSTAMP:20260419T111846
CREATED:20260128T003439Z
LAST-MODIFIED:20260318T193757Z
UID:10001645-1774807200-1774810800@www.prumc.org
SUMMARY:Encore! Read and Reflect
DESCRIPTION:The Art and Science of Getting Happier – Build the Life you Want by Arthur C Brooks with Oprah Winfry\n\nLed by PRUMC members Wit Hall\, Dr. Stephen McCollam\, Angela Davis\, and others\, this group supports those who are considering or preparing for retirement. Our goal is to provide a faith-based community along with resources and insights to help you prepare for the best possible next chapter. We will reflect on major themes from selected books and participate in table and group discussions. Participants are encouraged to read the books prior to each meeting. Questions? Contact Leslie Watkins at LeslieW@prumc.org. \n\nEncore! March Read & Reflect: Build the Life You Want: Amazon link\nEncore! April Read and Reflect: How to Know a Person: Amazon link
URL:https://www.prumc.org/event/encore-read-and-reflect/
LOCATION:Hospitality Suite\, 3180 Peachtree Rd NE\, Atlanta\, GA\, 30305\, United States
CATEGORIES:Men,Older Adults,Women
ATTACH;FMTTYPE=image/jpeg:https://www.prumc.org/wp-content/uploads/2026/02/Encore_March_Generic-scaled.jpg
ORGANIZER;CN="Peachtree Road United Methodist Church":MAILTO:info@prumc.org
END:VEVENT
BEGIN:VEVENT
DTSTART;TZID=America/Indiana/Indianapolis:20260424T180000
DTEND;TZID=America/Indiana/Indianapolis:20260426T100000
DTSTAMP:20260419T111846
CREATED:20260130T164647Z
LAST-MODIFIED:20260410T165730Z
UID:10001656-1777053600-1777197600@www.prumc.org
SUMMARY:Men's Annual Spiritual Retreat
DESCRIPTION:Rev. Bill Britt and Rev. Geoff Beakley invite you to join them for PRUMC’s second annual men’s spiritual retreat in the North Georgia mountains. This retreat is a unique opportunity for personal growth\, helping you deepen your connection with God and build stronger relationships with other men from PRUMC. \nOur moderator for the retreat is Dr. Kendall Soulen\, the professor of Systematic Theology at Emory University. Dr. Soulen believes that the power of God’s grace to redeem believers from sin is a crucial part of the gospel message\, but he thinks it’s only the gospel’s subplot! Dr. Soulen will help us explore what he calls “The Main Plot”: that God desires us to experience him by his power\, and how\, by God’s power\, our capacity to be with God\, to be with ourselves\, and to be with others expands. The retreat will explore these affirmations and the difference they make for Christian life and faith.
URL:https://www.prumc.org/event/mens-annual-spiritual-retreat/
LOCATION:Camp Glisson\, 690 Camp Glisson Rd\, Dahlongega\, GA\, 30533\, United States
CATEGORIES:Home Page,Men,Older Adults,Young Adults
ATTACH;FMTTYPE=image/jpeg:https://www.prumc.org/wp-content/uploads/2026/01/05_Men_Retreat_1920-scaled.jpg
ORGANIZER;CN="Peachtree Road United Methodist Church":MAILTO:info@prumc.org
END:VEVENT
BEGIN:VEVENT
DTSTART;TZID=America/Indiana/Indianapolis:20260504T100000
DTEND;TZID=America/Indiana/Indianapolis:20260504T160000
DTSTAMP:20260419T111846
CREATED:20260130T164434Z
LAST-MODIFIED:20260226T211025Z
UID:10001655-1777888800-1777910400@www.prumc.org
SUMMARY:Annual Golf Tournament
DESCRIPTION:We invite you to play in PRUMC’s 2nd Annual Golf Tournament! Start pulling together your foursome for this year’s golf tournament. There will be prizes for the best three team scores\, longest drive (men and women)\, closest to the pin\, putting contest\, and a hole-in-one award for $5\,000! Lunch\, prizes\, and the awards ceremony are included. We hope you’ll pull together a foursome and enjoy the fun on the golf course! For more information\, contact Rev. Geoff Beakley at geoffb@prumc.org.
URL:https://www.prumc.org/event/annual-golf-tournament-may-4-2026/
LOCATION:Bear’s Best Golf Course\, 5342 Aldeburgh Drive\, Suwanee\, 30024\, United States
CATEGORIES:Home Page,Men,Older Adults,Women,Young Adults
ATTACH;FMTTYPE=image/jpeg:https://www.prumc.org/wp-content/uploads/2026/02/Golf_Tournament_Generic-scaled.jpg
ORGANIZER;CN="Peachtree Road United Methodist Church":MAILTO:info@prumc.org
END:VEVENT
BEGIN:VEVENT
DTSTART;VALUE=DATE:20260627
DTEND;VALUE=DATE:20260703
DTSTAMP:20260419T111846
CREATED:20260111T183155Z
LAST-MODIFIED:20260111T183155Z
UID:10001554-1782518400-1783036799@www.prumc.org
SUMMARY:Family Mission Trip to Costa Rica
DESCRIPTION:Join PRUMC families for a meaningful mission experience in partnership with Rice and Beans Ministry. Families will serve together through a food ministry\, children’s activities\, and projects that support local schools and communities.\nThis is a powerful opportunity to share faith\, build relationships\, and make a lasting impact—together.
URL:https://www.prumc.org/event/family-mission-trip-to-costa-rica/
LOCATION:PRUMC\, 3180 Peachtree Road\, NE\, Atlanta\, GA\, 30305\, United States
CATEGORIES:Children,Global Missions,Men,Women,Youth
ORGANIZER;CN="Peachtree Road United Methodist Church":MAILTO:info@prumc.org
END:VEVENT
END:VCALENDAR