BEGIN:VCALENDAR
VERSION:2.0
PRODID:-//Peachtree Road United Methodist Church - ECPv6.15.17.1//NONSGML v1.0//EN
CALSCALE:GREGORIAN
METHOD:PUBLISH
X-WR-CALNAME:Peachtree Road United Methodist Church
X-ORIGINAL-URL:https://www.prumc.org
X-WR-CALDESC:Events for Peachtree Road United Methodist Church
REFRESH-INTERVAL;VALUE=DURATION:PT1H
X-Robots-Tag:noindex
X-PUBLISHED-TTL:PT1H
BEGIN:VTIMEZONE
TZID:America/Indiana/Indianapolis
BEGIN:DAYLIGHT
TZOFFSETFROM:-0500
TZOFFSETTO:-0400
TZNAME:EDT
DTSTART:20250309T070000
END:DAYLIGHT
BEGIN:STANDARD
TZOFFSETFROM:-0400
TZOFFSETTO:-0500
TZNAME:EST
DTSTART:20251102T060000
END:STANDARD
BEGIN:DAYLIGHT
TZOFFSETFROM:-0500
TZOFFSETTO:-0400
TZNAME:EDT
DTSTART:20260308T070000
END:DAYLIGHT
BEGIN:STANDARD
TZOFFSETFROM:-0400
TZOFFSETTO:-0500
TZNAME:EST
DTSTART:20261101T060000
END:STANDARD
BEGIN:DAYLIGHT
TZOFFSETFROM:-0500
TZOFFSETTO:-0400
TZNAME:EDT
DTSTART:20270314T070000
END:DAYLIGHT
BEGIN:STANDARD
TZOFFSETFROM:-0400
TZOFFSETTO:-0500
TZNAME:EST
DTSTART:20271107T060000
END:STANDARD
END:VTIMEZONE
BEGIN:VEVENT
DTSTART;TZID=America/Indiana/Indianapolis:20261202T120000
DTEND;TZID=America/Indiana/Indianapolis:20261202T123000
DTSTAMP:20260425T190751
CREATED:20260120T001406Z
LAST-MODIFIED:20260120T001824Z
UID:10001638-1796212800-1796214600@www.prumc.org
SUMMARY:Wednesday Worship
DESCRIPTION:Wednesday Worship \nWednesday\, December 2\, 2026 \n12:00 pm \nRev. Bill Britt preaching \nJoin us for inspiration in the middle of your week. Our 30-minute midday service is led by members of our clergy and music staff. \n \nMember Sign In \nGuest Sign In \nMake a Gift \nPrevious Worship
URL:https://www.prumc.org/event/wednesday-worship-december-2-2026/
LOCATION:Chapel\, 3180 Peachtree Rd NE\, Atlanta\, GA\, 30305\, United States
CATEGORIES:Worship
ORGANIZER;CN="Peachtree Road United Methodist Church":MAILTO:info@prumc.org
END:VEVENT
BEGIN:VEVENT
DTSTART;TZID=America/Indiana/Indianapolis:20261206T084500
DTEND;TZID=America/Indiana/Indianapolis:20261206T121500
DTSTAMP:20260425T190751
CREATED:20260114T013204Z
LAST-MODIFIED:20260114T014037Z
UID:10001588-1796546700-1796559300@www.prumc.org
SUMMARY:Sunday Worship
DESCRIPTION:Sunday Worship \nSunday\, December 6\, 2026 \n8:45\, 10:00 & 11:15 am \nRev. Bill Britt preaching \nSermon Series \nAdvent Series: O Come\, All Ye Faithful \nMark 1:1-8 | Prepare the Way of the LordJohn the Baptist appears in the wilderness\, calling people to repentance and renewal. This sermon encourages us to clear space in our hearts and lives to welcome the Christ who is coming. \nAdvent is a sacred season of expectation—a time to prepare our hearts and lives for the coming of Christ. In this series\, we are called to wake up\, clear the way\, rethink our values\, and open ourselves fully to the mystery of God-with-us. Each week offers an invitation to live more faithfully and more attentively as we journey toward Christmas. Come with hope\, come with longing—come\, all ye faithful. \nNovember 29 \nMark 13:24-37 \nStay Awake! \nDecember 6 \nMark 1:1-8 \nPrepare the Way of the Lord \nDecember 13 \nJohn 1:6-8\, 19-28 \nLet’s Become More Materialistic! \nDecember 20 \nLuke 1:26-38 \nLet It Be \n					\n									LIVESTREAM
URL:https://www.prumc.org/event/sunday-worship-december-6-2026/
LOCATION:Sanctuary\, 3180 Peachtree Rd NE\, Atlanta\, GA\, 30305\, United States
CATEGORIES:Worship
ORGANIZER;CN="Peachtree Road United Methodist Church":MAILTO:info@prumc.org
END:VEVENT
BEGIN:VEVENT
DTSTART;TZID=America/Indiana/Indianapolis:20261209T120000
DTEND;TZID=America/Indiana/Indianapolis:20261209T123000
DTSTAMP:20260425T190751
CREATED:20260120T002042Z
LAST-MODIFIED:20260120T002233Z
UID:10001639-1796817600-1796819400@www.prumc.org
SUMMARY:Wednesday Worship
DESCRIPTION:Wednesday Worship \nWednesday\, December 9\, 2026 \n12:00 pm \nRev. Geoff Beakley preaching \nJoin us for inspiration in the middle of your week. Our 30-minute midday service is led by members of our clergy and music staff. \n					 \nMember Sign In \nGuest Sign In \nMake a Gift \nPrevious Worship
URL:https://www.prumc.org/event/wednesday-worship-december-9-2026/
LOCATION:Chapel\, 3180 Peachtree Rd NE\, Atlanta\, GA\, 30305\, United States
CATEGORIES:Worship
ORGANIZER;CN="Peachtree Road United Methodist Church":MAILTO:info@prumc.org
END:VEVENT
BEGIN:VEVENT
DTSTART;TZID=America/Indiana/Indianapolis:20261209T120000
DTEND;TZID=America/Indiana/Indianapolis:20261209T130000
DTSTAMP:20260425T190751
CREATED:20260128T224810Z
LAST-MODIFIED:20260128T224810Z
UID:10001654-1796817600-1796821200@www.prumc.org
SUMMARY:Movers and Shakers Parkinson's Support Group
DESCRIPTION:If you or someone you love has Parkinson’s disease\, we invite you to participate in this PRUMC support group meeting.  We meet each month for lunch and sharing.  Contact Rosemary Josey at rosemary.josey@gmail.com.
URL:https://www.prumc.org/event/movers-and-shakers-parkinsons-support-december-9-2026/
LOCATION:B158\, 3180 Peachtree Rd NE\, Atlanta\, GA\, 30080\, United States
CATEGORIES:Older Adults,Pastoral Care
ORGANIZER;CN="Peachtree Road United Methodist Church":MAILTO:info@prumc.org
END:VEVENT
BEGIN:VEVENT
DTSTART;TZID=America/Indiana/Indianapolis:20261213T084500
DTEND;TZID=America/Indiana/Indianapolis:20261213T121500
DTSTAMP:20260425T190751
CREATED:20260114T013612Z
LAST-MODIFIED:20260114T013839Z
UID:10001589-1797151500-1797164100@www.prumc.org
SUMMARY:Sunday Worship
DESCRIPTION:Sunday Worship \nSunday\, December 13\, 2026 \n8:45\, 10:00 & 11:15 am \nRev. Bill Britt preaching \nJohn 1:6-8\, 19-28 | Let’s Become More Materialistic!With a title that flips expectations\, this message explores how Advent invites us to become more materialistic—not in the consumer sense\, but in the spiritual sense of letting God’s presence take real form in our lives through love\, generosity\, and embodied faith. \nSermon Series \nAdvent Series: O Come\, All Ye Faithful \nAdvent is a sacred season of expectation—a time to prepare our hearts and lives for the coming of Christ. In this series\, we are called to wake up\, clear the way\, rethink our values\, and open ourselves fully to the mystery of God-with-us. Each week offers an invitation to live more faithfully and more attentively as we journey toward Christmas. Come with hope\, come with longing—come\, all ye faithful. \nNovember 29 \nMark 13:24-37 \nStay Awake! \nDecember 6 \nMark 1:1-8 \nPrepare the Way of the Lord \nDecember 13 \nJohn 1:6-8\, 19-28 \nLet’s Become More Materialistic! \nDecember 20 \nLuke 1:26-38 \nLet It Be \n					\n									LIVESTREAM
URL:https://www.prumc.org/event/sunday-worship-2/
LOCATION:Sanctuary\, 3180 Peachtree Rd NE\, Atlanta\, GA\, 30305\, United States
CATEGORIES:Worship
ORGANIZER;CN="Peachtree Road United Methodist Church":MAILTO:info@prumc.org
END:VEVENT
BEGIN:VEVENT
DTSTART;TZID=America/Indiana/Indianapolis:20261216T120000
DTEND;TZID=America/Indiana/Indianapolis:20261216T123000
DTSTAMP:20260425T190751
CREATED:20260120T002505Z
LAST-MODIFIED:20260120T003724Z
UID:10001640-1797422400-1797424200@www.prumc.org
SUMMARY:Wednesday Worship
DESCRIPTION:Wednesday Worship \nWednesday\, December 16\, 2026 \n12:00 pm \nRev. Elizabeth Byrd preaching \nJoin us for inspiration in the middle of your week. Our 30-minute midday service is led by members of our clergy and music staff. \n \nMember Sign In \nGuest Sign In \nMake a Gift \nPrevious Worship
URL:https://www.prumc.org/event/wednesday-worship-december-16-2026/
LOCATION:Chapel\, 3180 Peachtree Rd NE\, Atlanta\, GA\, 30305\, United States
CATEGORIES:Worship
ORGANIZER;CN="Peachtree Road United Methodist Church":MAILTO:info@prumc.org
END:VEVENT
BEGIN:VEVENT
DTSTART;TZID=America/Indiana/Indianapolis:20261220T084500
DTEND;TZID=America/Indiana/Indianapolis:20261220T121500
DTSTAMP:20260425T190751
CREATED:20260114T014235Z
LAST-MODIFIED:20260114T014558Z
UID:10001590-1797756300-1797768900@www.prumc.org
SUMMARY:Sunday Worship
DESCRIPTION:Sunday Worship \nSunday\, December 20\, 2026 \n8:45\, 10:00 & 11:15 am \nRev. Bill Britt preaching \nLuke 1:26-38 | Let It Be\nMary receives a startling message—and responds with courage\, faith\, and surrender. This final message of Advent invites us to echo her words\, “Let it be with me according to your word\,” as we prepare to receive the Christ child into our lives once again. \nSermon Series \nAdvent Series: O come\, All Ye Faithful \nAdvent is a sacred season of expectation—a time to prepare our hearts and lives for the coming of Christ. In this series\, we are called to wake up\, clear the way\, rethink our values\, and open ourselves fully to the mystery of God-with-us. Each week offers an invitation to live more faithfully and more attentively as we journey toward Christmas. Come with hope\, come with longing—come\, all ye faithful. \nNovember 29 \nMark 13:24-37 \nStay Awake! \nDecember 6 \nMark 1:1-8 \nPrepare the Way of the Lord \nDecember 13 \nJohn 1:6-8\, 19-28 \nLet’s Become More Materialistic! \nDecember 20 \nLuke 1:26-38 \nLet It Be \n\nLIVESTREAM
URL:https://www.prumc.org/event/sunday-worship-december-20-2026/
LOCATION:Sanctuary\, 3180 Peachtree Rd NE\, Atlanta\, GA\, 30305\, United States
CATEGORIES:Worship
ORGANIZER;CN="Peachtree Road United Methodist Church":MAILTO:info@prumc.org
END:VEVENT
BEGIN:VEVENT
DTSTART;TZID=America/Indiana/Indianapolis:20261223T120000
DTEND;TZID=America/Indiana/Indianapolis:20261223T123000
DTSTAMP:20260425T190751
CREATED:20260120T004013Z
LAST-MODIFIED:20260120T004611Z
UID:10001641-1798027200-1798029000@www.prumc.org
SUMMARY:Wednesday Worship
DESCRIPTION:Wednesday Worship \nWednesday\, December 23\, 2026 \n12:00 pm \nRev. Josh Miles preaching \nJoin us for inspiration in the middle of your week. Our 30-minute midday service is led by members of our clergy and music staff. \n					 \nMember Sign In \nGuest Sign In \nMake a Gift \nPrevious Worship
URL:https://www.prumc.org/event/wednesday-worship-december-23-2026/
LOCATION:Chapel\, 3180 Peachtree Rd NE\, Atlanta\, GA\, 30305\, United States
CATEGORIES:Worship
ORGANIZER;CN="Peachtree Road United Methodist Church":MAILTO:info@prumc.org
END:VEVENT
BEGIN:VEVENT
DTSTART;TZID=America/Indiana/Indianapolis:20261227T084500
DTEND;TZID=America/Indiana/Indianapolis:20261227T121500
DTSTAMP:20260425T190751
CREATED:20260109T165215Z
LAST-MODIFIED:20260109T165353Z
UID:10001514-1798361100-1798373700@www.prumc.org
SUMMARY:Worship Sunday
DESCRIPTION:Sunday Worship \nSunday\, December 27\, 2026 \n8:45\, 10:00 & 11:15 am \nRev. Bill Britt preaching \nLuke 2:22-40 | Mine Eyes Have Seen the Glory!As Simeon holds the infant Christ\, he proclaims that his eyes have seen God’s salvation. This message reflects on the joy of recognizing God at work in our midst—and the peace that comes from knowing Christ has come into the world. \n					\n									LIVESTREAM
URL:https://www.prumc.org/event/worship-sunday-december-27-2026/
LOCATION:Sanctuary\, 3180 Peachtree Rd NE\, Atlanta\, GA\, 30305\, United States
CATEGORIES:Worship
ORGANIZER;CN="Peachtree Road United Methodist Church":MAILTO:info@prumc.org
END:VEVENT
END:VCALENDAR