BEGIN:VCALENDAR
VERSION:2.0
PRODID:-//Peachtree Road United Methodist Church - ECPv6.15.17.1//NONSGML v1.0//EN
CALSCALE:GREGORIAN
METHOD:PUBLISH
X-WR-CALNAME:Peachtree Road United Methodist Church
X-ORIGINAL-URL:https://www.prumc.org
X-WR-CALDESC:Events for Peachtree Road United Methodist Church
REFRESH-INTERVAL;VALUE=DURATION:PT1H
X-Robots-Tag:noindex
X-PUBLISHED-TTL:PT1H
BEGIN:VTIMEZONE
TZID:America/Indiana/Indianapolis
BEGIN:DAYLIGHT
TZOFFSETFROM:-0500
TZOFFSETTO:-0400
TZNAME:EDT
DTSTART:20230312T070000
END:DAYLIGHT
BEGIN:STANDARD
TZOFFSETFROM:-0400
TZOFFSETTO:-0500
TZNAME:EST
DTSTART:20231105T060000
END:STANDARD
BEGIN:DAYLIGHT
TZOFFSETFROM:-0500
TZOFFSETTO:-0400
TZNAME:EDT
DTSTART:20240310T070000
END:DAYLIGHT
BEGIN:STANDARD
TZOFFSETFROM:-0400
TZOFFSETTO:-0500
TZNAME:EST
DTSTART:20241103T060000
END:STANDARD
BEGIN:DAYLIGHT
TZOFFSETFROM:-0500
TZOFFSETTO:-0400
TZNAME:EDT
DTSTART:20250309T070000
END:DAYLIGHT
BEGIN:STANDARD
TZOFFSETFROM:-0400
TZOFFSETTO:-0500
TZNAME:EST
DTSTART:20251102T060000
END:STANDARD
END:VTIMEZONE
BEGIN:VEVENT
DTSTART;TZID=America/Indiana/Indianapolis:20240911T183000
DTEND;TZID=America/Indiana/Indianapolis:20240911T193000
DTSTAMP:20260423T082452
CREATED:20240818T172312Z
LAST-MODIFIED:20240818T172312Z
UID:10000744-1726079400-1726083000@www.prumc.org
SUMMARY:Jesus in the Gospels Bible Study Begins
DESCRIPTION:Join us to study the names\, places\, and people of the Gospels\, encountering Jesus as depicted in Matthew\, Mark\, Luke\, and John. This class aims to illuminate aspects of Jesus and connect Scripture to daily life while exploring His call to discipleship. It is divided between fall and spring semesters. Previous Disciple Bible Study (Disciple I\, II\, III\, IV) is recommended\, but not required. \nRegister here. \nSundays\, 5:00 pm\, C101\nLed by Jeff Upshaw and Wally Weeks \nStarting September 11\n30 weeks
URL:https://www.prumc.org/event/jesus-in-the-gospels-bible-study-begins/
LOCATION:C106\, 3180 Peachtree Rd NE\, Atlanta\, GA\, 30080\, United States
CATEGORIES:Adult Education
ORGANIZER;CN="Peachtree Road United Methodist Church":MAILTO:info@prumc.org
END:VEVENT
BEGIN:VEVENT
DTSTART;TZID=America/Indiana/Indianapolis:20240911T180000
DTEND;TZID=America/Indiana/Indianapolis:20240911T190000
DTSTAMP:20260423T082452
CREATED:20240713T233439Z
LAST-MODIFIED:20240904T202142Z
UID:10000691-1726077600-1726081200@www.prumc.org
SUMMARY:Walk and Talk
DESCRIPTION:Shake away your daily stress and step into a community of connection with Walk & Talk. Designed for young adults seeking physical activity and meaningful conversation\, this walking group offers a refreshing blend of movement and camaraderie. Join us as we walk\, talk\, and build connections that nourish both body and soul. \nFor more information\, please contact Rev. Emily Miles at emilym@prumc.org. \nRegister here.
URL:https://www.prumc.org/event/young-adult-walk-talk/
LOCATION:Chastain Park\, 3885 Northside Drive\, Atlanta\, GA\, 30342\, United States
CATEGORIES:Adult Education,Health and Wellness,Young Adults
ATTACH;FMTTYPE=image/png:https://www.prumc.org/wp-content/uploads/2024/07/Walking_Group.png
ORGANIZER;CN="Peachtree Road United Methodist Church":MAILTO:info@prumc.org
END:VEVENT
BEGIN:VEVENT
DTSTART;TZID=America/Indiana/Indianapolis:20240911T100000
DTEND;TZID=America/Indiana/Indianapolis:20240911T110000
DTSTAMP:20260423T082452
CREATED:20240818T172834Z
LAST-MODIFIED:20240818T172852Z
UID:10000746-1726048800-1726052400@www.prumc.org
SUMMARY:Morning Light Women's Study Begins
DESCRIPTION:Morning Light\nStudy of Luke in the Land by Kristi McLelland \nRegister here. \nWednesdays\, 10:00 am\, C104\nLed by Jan Bilthouse \nStarting September 11 \n 
URL:https://www.prumc.org/event/morning-light-womens-study-begins-2/
LOCATION:C104\, 3180 Peachtree Rd NE\, Atlanta\, 30080\, United States
CATEGORIES:Adult Education
ORGANIZER;CN="Peachtree Road United Methodist Church":MAILTO:info@prumc.org
END:VEVENT
BEGIN:VEVENT
DTSTART;TZID=America/Indiana/Indianapolis:20240911T100000
DTEND;TZID=America/Indiana/Indianapolis:20240911T110000
DTSTAMP:20260423T082452
CREATED:20240818T172632Z
LAST-MODIFIED:20240818T172632Z
UID:10000745-1726048800-1726052400@www.prumc.org
SUMMARY:Morning Light Women's Study Begins
DESCRIPTION:Morning Light\nStudy of Luke by Lisa Harper \nRegister here. \nWednesdays\, 10:00 am\, Hospitality Suite\nLed by Nancy Bell \nStarting September 11
URL:https://www.prumc.org/event/morning-light-womens-study-begins/
LOCATION:Hospitality Suite\, 3180 Peachtree Rd NE\, Atlanta\, GA\, 30305\, United States
CATEGORIES:Adult Education
ORGANIZER;CN="Peachtree Road United Methodist Church":MAILTO:info@prumc.org
END:VEVENT
BEGIN:VEVENT
DTSTART;TZID=America/Indiana/Indianapolis:20240909T183000
DTEND;TZID=America/Indiana/Indianapolis:20240909T193000
DTSTAMP:20260423T082452
CREATED:20240818T171220Z
LAST-MODIFIED:20240818T172103Z
UID:10000741-1725906600-1725910200@www.prumc.org
SUMMARY:A Faith of Many Rooms Study Begins
DESCRIPTION:Jesus describes the reign of God as a house with many rooms. Debie Thomas’ new book A Faith of Many Rooms: Inhabiting a More Spacious Christianity inspires a thought-provoking spiritual journey toward a roomier\, more expansive faith and how to inhabit it with authenticity and joy. \nRegister here. \nMondays\, 6:30 pm\, C106\nLed by Rev. Darren Hensley \nStarting September 9\n4 weeks
URL:https://www.prumc.org/event/a-faith-of-many-rooms-study-begins/
LOCATION:C106\, 3180 Peachtree Rd NE\, Atlanta\, GA\, 30080\, United States
CATEGORIES:Adult Education
ORGANIZER;CN="Peachtree Road United Methodist Church":MAILTO:info@prumc.org
END:VEVENT
BEGIN:VEVENT
DTSTART;TZID=America/Indiana/Indianapolis:20240909T120000
DTEND;TZID=America/Indiana/Indianapolis:20240909T130000
DTSTAMP:20260423T082452
CREATED:20240818T171634Z
LAST-MODIFIED:20240818T171634Z
UID:10000742-1725883200-1725886800@www.prumc.org
SUMMARY:Five Marks of a Methodist Study Begins
DESCRIPTION:In Five Marks of a Methodist\, Steve Harper outlines five clear practices that confirm our identity as genuine and fruitful followers of Christ. Join Rev. Elizabeth Byrd to deep dive into these five marks: Love God\, Rejoice in God\, Give Thanks\, Pray Constantly\, and Love Others. \nRegister here. \nMondays\, 12:00 pm\, Zoom\nLed by Rev. Elizabeth Byrd \nStarting September 9\n4 weeks
URL:https://www.prumc.org/event/five-marks-of-a-methodist-study-begins/
LOCATION:Zoom
CATEGORIES:Adult Education
ORGANIZER;CN="Peachtree Road United Methodist Church":MAILTO:info@prumc.org
END:VEVENT
BEGIN:VEVENT
DTSTART;TZID=America/Indiana/Indianapolis:20240908T180000
DTEND;TZID=America/Indiana/Indianapolis:20240908T193000
DTSTAMP:20260423T082452
CREATED:20240817T214945Z
LAST-MODIFIED:20240827T204109Z
UID:10000735-1725818400-1725823800@www.prumc.org
SUMMARY:Disciple IV Bible Study Begins
DESCRIPTION:This study concentrates on Old Testament Writings\, the Gospel of John\, the Epistles of John\, James\, Jude\, and finally\, Revelation. Emphasis on the Psalms as Israel’s hymnbook and prayer book leads naturally to an emphasis on worship in the study. Present throughout the entire study is the sense of living toward completion as pictured in Revelation – invitation\, welcome\, sheltering\, security\, and rest– home at last. Previous Disciple Bible Study (Disciple I\, II\, III) is recommended but not required. Register here. \nSundays\, 6:00 pm\, C102\nLed by Rev. Geoff and Leigh Beakley \nStarting September 8\n32 weeks \nRegister here.
URL:https://www.prumc.org/event/disciple-iv-bible-study-begins/
LOCATION:C102\, 3180 Peachtree Rd NE\, Atlanta\, GA\, 30080\, United States
CATEGORIES:Adult Education
ORGANIZER;CN="Peachtree Road United Methodist Church":MAILTO:info@prumc.org
END:VEVENT
BEGIN:VEVENT
DTSTART;TZID=America/Indiana/Indianapolis:20240908T180000
DTEND;TZID=America/Indiana/Indianapolis:20240908T193000
DTSTAMP:20260423T082452
CREATED:20240805T170220Z
LAST-MODIFIED:20240827T204009Z
UID:10000731-1725818400-1725823800@www.prumc.org
SUMMARY:Disciple I Fast Track Bible Study Begins
DESCRIPTION:Disciple I Fast Track enhances understanding through scholarly work\, personal Bible study\, and group discussions. It equally emphasizes the Old and New Testaments\, highlighting the Bible’s unity as God’s revelation. The class meets for 12 weeks in the fall focusing on the Old Testament\, takes a winter break\, and resumes for 12 weeks in January for the New Testament. \nRegister here. \nSundays\, 6:00 pm\, C106\nLed by Ed Hamlin \nStarting September 8\n24 weeks
URL:https://www.prumc.org/event/disciple-i-class-begins/
LOCATION:C106\, 3180 Peachtree Rd NE\, Atlanta\, GA\, 30080\, United States
CATEGORIES:Adult Education
ORGANIZER;CN="Peachtree Road United Methodist Church":MAILTO:info@prumc.org
END:VEVENT
BEGIN:VEVENT
DTSTART;TZID=America/Indiana/Indianapolis:20240908T180000
DTEND;TZID=America/Indiana/Indianapolis:20240908T190000
DTSTAMP:20260423T082452
CREATED:20240818T170811Z
LAST-MODIFIED:20240818T170811Z
UID:10000739-1725818400-1725822000@www.prumc.org
SUMMARY:Disciple IV Bible Study Begins
DESCRIPTION:This study concentrates on Old Testament Writings\, the Gospel of John\, the Epistles of John\, James\, Jude\, and finally\, Revelation. Emphasis on the Psalms as Israel’s hymnbook and prayer book leads naturally to an emphasis on worship in the study. Present throughout the entire study is the sense of living toward completion as pictured in Revelation – invitation\, welcome\, sheltering\, security\, and rest– home at last. Previous Disciple Bible Study (Disciple I\, II\, III) is recommended but not required. \nRegister here. \nSundays\, 6:00 pm\, C102\nLed by Rev. Geoff  and Leigh Beakley \nStarting September 8\n32 weeks
URL:https://www.prumc.org/event/disciple-iv-bible-study-begins-2/
LOCATION:C102\, 3180 Peachtree Rd NE\, Atlanta\, GA\, 30080\, United States
CATEGORIES:Adult Education
ORGANIZER;CN="Peachtree Road United Methodist Church":MAILTO:info@prumc.org
END:VEVENT
BEGIN:VEVENT
DTSTART;TZID=America/Indiana/Indianapolis:20240908T170000
DTEND;TZID=America/Indiana/Indianapolis:20240908T193000
DTSTAMP:20260423T082452
CREATED:20240716T201247Z
LAST-MODIFIED:20240825T164639Z
UID:10000697-1725814800-1725823800@www.prumc.org
SUMMARY:1/99
DESCRIPTION:1|99 is all about building community. 6th—12th graders experience meaningful discussion with a small group and find a place to be their authentic selves.  All students and friends are invited to join us for worship\, small groups\, dinner\, and games each Sunday!
URL:https://www.prumc.org/event/1-99/
LOCATION:Harp Student Center\, 3180 Peachtree Rd NE\, Atlanta\, GA\, 30305\, United States
CATEGORIES:Youth
ORGANIZER;CN="Peachtree Road United Methodist Church":MAILTO:info@prumc.org
END:VEVENT
BEGIN:VEVENT
DTSTART;TZID=America/Indiana/Indianapolis:20240908T170000
DTEND;TZID=America/Indiana/Indianapolis:20240908T183000
DTSTAMP:20260423T082452
CREATED:20240817T213427Z
LAST-MODIFIED:20240818T170117Z
UID:10000733-1725814800-1725820200@www.prumc.org
SUMMARY:Invitation to the Old Testament Bible Study Begins
DESCRIPTION:This study delves into the Old Testament’s story of God and Israel\, exploring Creation hymns\, laws\, wisdom teachings\, prophetic warnings\, and the poetry of the Song of Solomon. Participants will gain a deeper understanding and appreciation of the Old Testament as integral to the Bible\, renew their sense of identity in God\, and remember God’s vision for all things. \nRegister here. \nSundays\, 6:00 pm\, C104\nLed by Deirdra Harrell \nStarting September 8\n8 weeks
URL:https://www.prumc.org/event/invitation-to-the-old-testament-bible-study-begins/
LOCATION:C104\, 3180 Peachtree Rd NE\, Atlanta\, 30080\, United States
ORGANIZER;CN="Peachtree Road United Methodist Church":MAILTO:info@prumc.org
END:VEVENT
BEGIN:VEVENT
DTSTART;TZID=America/Indiana/Indianapolis:20240908T170000
DTEND;TZID=America/Indiana/Indianapolis:20240908T180000
DTSTAMP:20260423T082452
CREATED:20240818T171021Z
LAST-MODIFIED:20240818T171021Z
UID:10000740-1725814800-1725818400@www.prumc.org
SUMMARY:Invitation to Genesis Bible Study Begins
DESCRIPTION:This study of Genesis explores the interactions between God and humans through stories of Creation\, Noah\, Abraham\, Isaac\, Jacob\, Rebekah\, and Joseph. By reading two chapters of Genesis each week\, participants will encounter life-altering stories that invite them to follow Christ as true disciples. \nRegister here. \nSundays\, 5:00 pm\, C101\nLed by Mason and Kelly Brannon \nStarting September 8\n10 weeks
URL:https://www.prumc.org/event/invitation-to-genesis-bible-study-begins/
LOCATION:C101\, 3180 Peachtree Rd NE\, Atlanta\, GA\, 30080\, United States
CATEGORIES:Adult Education
ORGANIZER;CN="Peachtree Road United Methodist Church":MAILTO:info@prumc.org
END:VEVENT
BEGIN:VEVENT
DTSTART;TZID=America/Indiana/Indianapolis:20240908T111500
DTEND;TZID=America/Indiana/Indianapolis:20240908T121500
DTSTAMP:20260423T082452
CREATED:20240819T180159Z
LAST-MODIFIED:20240819T180159Z
UID:10000756-1725794100-1725797700@www.prumc.org
SUMMARY:Country of Georgia Mission Trip Information Session
DESCRIPTION:Join members of our mission team to learn more about this ministry and our upcoming trip April 23 – May 4\, 2025. This is a great opportunity to meet others who are interested\, and to ask any questions before registration opens on September 22. Led by Jean Nottingham and Lynn Banks.
URL:https://www.prumc.org/event/country-of-georgia-mission-trip-information-session/
LOCATION:A101\, 3180 Peachtree Road\, NE\, Atlanta\, GA\, 30305\, United States
CATEGORIES:Global Missions
ORGANIZER;CN="Peachtree Road United Methodist Church":MAILTO:info@prumc.org
END:VEVENT
BEGIN:VEVENT
DTSTART;TZID=America/Indiana/Indianapolis:20240908T111500
DTEND;TZID=America/Indiana/Indianapolis:20240908T121500
DTSTAMP:20260423T082452
CREATED:20240501T025044Z
LAST-MODIFIED:20240715T161533Z
UID:10000276-1725794100-1725797700@www.prumc.org
SUMMARY:Special Joining Day
DESCRIPTION:We are excited to welcome new members during the 11:15 worship service. For more information or to RSVP\, please contact Brittany Charron at brittanyc@prumc.org.
URL:https://www.prumc.org/event/special-joining-day-2/
LOCATION:Sanctuary\, 3180 Peachtree Rd NE\, Atlanta\, GA\, 30305\, United States
CATEGORIES:Membership
ORGANIZER;CN="Peachtree Road United Methodist Church":MAILTO:info@prumc.org
END:VEVENT
BEGIN:VEVENT
DTSTART;TZID=America/Indiana/Indianapolis:20240908T110000
DTEND;TZID=America/Indiana/Indianapolis:20240908T130000
DTSTAMP:20260423T082452
CREATED:20240501T025401Z
LAST-MODIFIED:20240820T222825Z
UID:10000277-1725793200-1725800400@www.prumc.org
SUMMARY:Fellowship Luncheon
DESCRIPTION:Join us for a delicious meal and warm fellowship with your church family. \nThe Men of Peachtree Road are back at it – making fantastic smoked pork to kick off the fall for their church family. \nEnjoy pulled pork BBQ\, baked beans\, coleslaw\, cornbread\, and banana pudding. This meal is complimentary. We look forward to seeing you! \n(Thanks\, guys!)
URL:https://www.prumc.org/event/fellowship-luncheon/
LOCATION:Grace Hall\, 3180 Peachtree Rd NE\, Atlanta\, GA\, 30305\, United States
CATEGORIES:Food Service
ORGANIZER;CN="Peachtree Road United Methodist Church":MAILTO:info@prumc.org
END:VEVENT
BEGIN:VEVENT
DTSTART;TZID=America/Indiana/Indianapolis:20240908T093000
DTEND;TZID=America/Indiana/Indianapolis:20240908T133000
DTSTAMP:20260423T082452
CREATED:20240819T161140Z
LAST-MODIFIED:20240907T223724Z
UID:10000750-1725787800-1725802200@www.prumc.org
SUMMARY:The Centennial Gallery Opening
DESCRIPTION:On this special Sunday\, The Centennial Gallery will open to the public. Inside you will find a selection of cherished items\, concise histories\, commemorative quilts\, and a digital experience taking you through the decades of our church’s mission and ministry. This curated space is located on the lower level of the Sanctuary\, near the Dogwood Shop. All are invited to visit the Gallery on its grand opening and after to appreciate the heritage\, history\, and visual story of Peachtree Road UMC.
URL:https://www.prumc.org/event/the-centennial-gallery-opening/
LOCATION:PRUMC\, 3180 Peachtree Road\, NE\, Atlanta\, GA\, 30305\, United States
CATEGORIES:Centennial
ATTACH;FMTTYPE=image/jpeg:https://www.prumc.org/wp-content/uploads/2024/09/Gallery_Quilts-scaled.jpg
ORGANIZER;CN="Peachtree Road United Methodist Church":MAILTO:info@prumc.org
END:VEVENT
BEGIN:VEVENT
DTSTART;TZID=America/Indiana/Indianapolis:20240908T084500
DTEND;TZID=America/Indiana/Indianapolis:20240908T121500
DTSTAMP:20260423T082452
CREATED:20240501T024734Z
LAST-MODIFIED:20240624T175209Z
UID:10000275-1725785100-1725797700@www.prumc.org
SUMMARY:Fall Kick-off Festival Worship
DESCRIPTION:All are welcome at Peachtree Road as we start a wonderful new season together. Now is the perfect time to invite a friend\, neighbor or loved one to join us for worship and some of the great educational and fellowship events coming up!
URL:https://www.prumc.org/event/fall-kick-off-festival-worship/
LOCATION:Sanctuary\, 3180 Peachtree Rd NE\, Atlanta\, GA\, 30305\, United States
CATEGORIES:Worship
ORGANIZER;CN="Peachtree Road United Methodist Church":MAILTO:info@prumc.org
END:VEVENT
BEGIN:VEVENT
DTSTART;TZID=America/Indiana/Indianapolis:20240905T093000
DTEND;TZID=America/Indiana/Indianapolis:20240905T103000
DTSTAMP:20260423T082452
CREATED:20240818T170552Z
LAST-MODIFIED:20240818T170552Z
UID:10000738-1725528600-1725532200@www.prumc.org
SUMMARY:Grace Point Women's Study Begins
DESCRIPTION:Women of all ages and stages of life are invited to join us as we study Scripture\, renew our faith\, and experience the grace of God together. Our goal is to build a community of women to support one another while uncovering the beautiful truth of God’s word. This fall\, we will study Paul’s letter to the Romans. In it\, we find encouraging yet challenging words that speak to our Christian faith. Come for coffee and fellowship beginning at 9:15 am and Bible study from 9:30 – 10:30 am. \nRegister here. \nThursdays\, 9:30 am\, Harp Center\nLed by Rev. Elizabeth Byrd and small group leaders \nStarting September 5\n12 weeks
URL:https://www.prumc.org/event/grace-point-womens-study-begins/
LOCATION:Harp Student Center\, 3180 Peachtree Rd NE\, Atlanta\, GA\, 30305\, United States
CATEGORIES:Adult Education
ORGANIZER;CN="Peachtree Road United Methodist Church":MAILTO:info@prumc.org
END:VEVENT
BEGIN:VEVENT
DTSTART;TZID=America/Indiana/Indianapolis:20240904T130000
DTEND;TZID=America/Indiana/Indianapolis:20240904T140000
DTSTAMP:20260423T082452
CREATED:20240828T153011Z
LAST-MODIFIED:20240828T153011Z
UID:10000762-1725454800-1725458400@www.prumc.org
SUMMARY:Seasoned Saints Midweek Program
DESCRIPTION:Wednesdays\, 1:00 pm\, C106\nRSVP to Heather C. Holdridge at heatherch@prumc.org or 404.240.8302. \nSep 4 “A” Bingo Bring a $5 wrapped prize that starts with the letter “A”.
URL:https://www.prumc.org/event/seasoned-saints-midweek-program/
LOCATION:C106\, 3180 Peachtree Rd NE\, Atlanta\, GA\, 30080\, United States
CATEGORIES:Older Adults
ORGANIZER;CN="Peachtree Road United Methodist Church":MAILTO:info@prumc.org
END:VEVENT
BEGIN:VEVENT
DTSTART;TZID=America/Indiana/Indianapolis:20240904T103000
DTEND;TZID=America/Indiana/Indianapolis:20240904T170000
DTSTAMP:20260423T082452
CREATED:20240827T145103Z
LAST-MODIFIED:20240827T145103Z
UID:10000760-1725445800-1725469200@www.prumc.org
SUMMARY:Journey Together Begins
DESCRIPTION:Wednesdays\, 10:30 am\, C106\nStarting September 4\n15 weeks \n\n\n\n\nLed by Janice McGalliard and Rev. Leslie Watkins \nSep 4 – Oct 9: Revival: Faith as Wesley Lived It by Adam Hamilton\nOct 16 – Dec 11: Deborah: Unlikely Heroes and the Book of Judges by Sandra Richter\nDec 18: Advent Reflections \nRegister here.
URL:https://www.prumc.org/event/journey-together-begins/
LOCATION:C106\, 3180 Peachtree Rd NE\, Atlanta\, GA\, 30080\, United States
CATEGORIES:Adult Education
ORGANIZER;CN="Peachtree Road United Methodist Church":MAILTO:info@prumc.org
END:VEVENT
BEGIN:VEVENT
DTSTART;TZID=America/Indiana/Indianapolis:20240904T093000
DTEND;TZID=America/Indiana/Indianapolis:20240904T103000
DTSTAMP:20260423T082452
CREATED:20240818T170337Z
LAST-MODIFIED:20240820T222523Z
UID:10000737-1725442200-1725445800@www.prumc.org
SUMMARY:More Than Sparrows Women's Study Begins
DESCRIPTION:Join us for an invigorating 10-week study on how Christ nourishes us. We will weave in the New Testament as we dive in to discover how to be full of His glory in this wild\, hard\, beautiful life. Each week you will receive inspiring emails with scripture readings. Our goal is to get you so filled with the awe-inspiring word of God that you are ready for the week ahead\, and have anchors for the years ahead. Come just as you are for this welcoming class that empowers incredible connection with relatable\, authentic\, loving women. Coffee and childcare provided. Zoom link available for each class. Firm stop and start times. \nRegister here. \nWednesdays\, 9:30 am\, Harp Center\nLed by Sarah Crossman Sullivan\, Amy Dickie\, Lezlie Welty \nStarting September 4\n10 weeks
URL:https://www.prumc.org/event/more-than-sparrows-womens-study-begins/
LOCATION:Harp Student Center\, 3180 Peachtree Rd NE\, Atlanta\, GA\, 30305\, United States
CATEGORIES:Adult Education
ORGANIZER;CN="Peachtree Road United Methodist Church":MAILTO:info@prumc.org
END:VEVENT
BEGIN:VEVENT
DTSTART;VALUE=DATE:20240904
DTEND;VALUE=DATE:20240905
DTSTAMP:20260423T082452
CREATED:20240723T154824Z
LAST-MODIFIED:20240818T164550Z
UID:10000711-1725408000-1725494399@www.prumc.org
SUMMARY:Children's Choir Rehearsals Begin
DESCRIPTION:We’re so excited to welcome your child to a wonderful year of singing\, service\, and fun ahead in choir!  For PRUMC’s special 100th year\, we have an amazing program planned. At every level\, your child will grow in their ability to worship\, love music\, be part of a team\, and make new friends. Find fun\, spirit\, and a PRUMC home in our choirs! \nFor more information\, contact Kathy Fletcher at kathyf@prumc.org. \nRegister here.
URL:https://www.prumc.org/event/childrens-choir-rehearsals-begin/
LOCATION:PRUMC\, 3180 Peachtree Road\, NE\, Atlanta\, GA\, 30305\, United States
CATEGORIES:Children,Choir,Music
ORGANIZER;CN="Peachtree Road United Methodist Church":MAILTO:info@prumc.org
END:VEVENT
BEGIN:VEVENT
DTSTART;TZID=America/Indiana/Indianapolis:20240826T180000
DTEND;TZID=America/Indiana/Indianapolis:20240826T200000
DTSTAMP:20260423T082452
CREATED:20240718T144559Z
LAST-MODIFIED:20240718T144559Z
UID:10000704-1724695200-1724702400@www.prumc.org
SUMMARY:Administrative Board Meeting
DESCRIPTION:
URL:https://www.prumc.org/event/administrative-board-meeting/
LOCATION:Grace Hall\, 3180 Peachtree Rd NE\, Atlanta\, GA\, 30305\, United States
CATEGORIES:Church Business
ORGANIZER;CN="Peachtree Road United Methodist Church":MAILTO:info@prumc.org
END:VEVENT
BEGIN:VEVENT
DTSTART;TZID=America/Indiana/Indianapolis:20240825T123000
DTEND;TZID=America/Indiana/Indianapolis:20240825T140000
DTSTAMP:20260423T082452
CREATED:20240501T024256Z
LAST-MODIFIED:20240624T175143Z
UID:10000274-1724589000-1724594400@www.prumc.org
SUMMARY:Tea with the Clergy
DESCRIPTION:Get to know our church and ministers better at this casual afternoon gathering. Our clergy will answer questions\, share their vision\, and help you connect to areas of interest within the church. After conversation wraps up\, those who wish to take the next step in membership may join in a brief chapel service. For more information or to RSVP\, please contact Brittany Charron at brittanyc@prumc.org.
URL:https://www.prumc.org/event/tea-with-the-clergy/
LOCATION:Hospitality Suite\, 3180 Peachtree Rd NE\, Atlanta\, GA\, 30305\, United States
CATEGORIES:Membership
ORGANIZER;CN="Peachtree Road United Methodist Church":MAILTO:info@prumc.org
END:VEVENT
BEGIN:VEVENT
DTSTART;TZID=America/Indiana/Indianapolis:20240825T100000
DTEND;TZID=America/Indiana/Indianapolis:20240825T110000
DTSTAMP:20260423T082452
CREATED:20240501T023952Z
LAST-MODIFIED:20240723T203723Z
UID:10000273-1724580000-1724583600@www.prumc.org
SUMMARY:Youth Parent Open House
DESCRIPTION:We’ll share the information you need for a great year ahead! All youth (6th—12th grade) and their parents will learn about important dates\, trip information\, and forms for the upcoming year. We’ll see you there!
URL:https://www.prumc.org/event/youth-parent-open-house/
LOCATION:Harp Student Center\, 3180 Peachtree Rd NE\, Atlanta\, GA\, 30305\, United States
CATEGORIES:Youth
ORGANIZER;CN="Peachtree Road United Methodist Church":MAILTO:info@prumc.org
END:VEVENT
BEGIN:VEVENT
DTSTART;TZID=America/Indiana/Indianapolis:20240825T090000
DTEND;TZID=America/Indiana/Indianapolis:20240825T100000
DTSTAMP:20260423T082452
CREATED:20240501T023306Z
LAST-MODIFIED:20240723T214538Z
UID:10000272-1724576400-1724580000@www.prumc.org
SUMMARY:Confirmation Parent Meeting
DESCRIPTION:All 6th grade families\, come find out more about this year’s Confirmation class\, which is starting soon! If you have not yet received a welcome email\, please contact Rachel Hockman at rachelbh@prumc.org.
URL:https://www.prumc.org/event/confirmation-parent-meeting/
LOCATION:Harp Student Center\, 3180 Peachtree Rd NE\, Atlanta\, GA\, 30305\, United States
CATEGORIES:Youth
ORGANIZER;CN="Peachtree Road United Methodist Church":MAILTO:info@prumc.org
END:VEVENT
BEGIN:VEVENT
DTSTART;TZID=America/Indiana/Indianapolis:20240825T084500
DTEND;TZID=America/Indiana/Indianapolis:20240825T121500
DTSTAMP:20260423T082452
CREATED:20240501T022949Z
LAST-MODIFIED:20240723T200533Z
UID:10000271-1724575500-1724588100@www.prumc.org
SUMMARY:Promotion Sunday
DESCRIPTION:We’re so excited to welcome all our children to new classes to meet new teachers\, and experience God’s presence through our AWESOME Children’s Ministries offerings! All children\, from birth through 5th grade\, move to new classes and meet new teachers as we experience God’s presence every week.
URL:https://www.prumc.org/event/promotion-sunday/
LOCATION:PRUMC Children’s Building\, 3180 Peachtree Road\, NE\, Atlanta\, GA\, 30305\, United States
CATEGORIES:Children
ORGANIZER;CN="Peachtree Road United Methodist Church":MAILTO:info@prumc.org
END:VEVENT
BEGIN:VEVENT
DTSTART;TZID=America/Indiana/Indianapolis:20240824T193000
DTEND;TZID=America/Indiana/Indianapolis:20240824T223000
DTSTAMP:20260423T082452
CREATED:20240716T201108Z
LAST-MODIFIED:20240817T194120Z
UID:10000696-1724527800-1724538600@www.prumc.org
SUMMARY:Youth Braves Night!
DESCRIPTION:Join us for a fun night at the Braves to wrap up the summer!    Tickets are $35\, plus extra cash for snacks.  Drop off and pick up at Cobb Galleria Centre.  Questions?  Contact Rachel Hockman at rachelbh@prumc.org.
URL:https://www.prumc.org/event/youth-to-braves-game/
LOCATION:PRUMC\, 3180 Peachtree Road\, NE\, Atlanta\, GA\, 30305\, United States
CATEGORIES:Youth
ORGANIZER;CN="Peachtree Road United Methodist Church":MAILTO:info@prumc.org
END:VEVENT
BEGIN:VEVENT
DTSTART;TZID=America/Indiana/Indianapolis:20240820T180000
DTEND;TZID=America/Indiana/Indianapolis:20240820T193000
DTSTAMP:20260423T082452
CREATED:20240718T144525Z
LAST-MODIFIED:20240718T144525Z
UID:10000703-1724176800-1724182200@www.prumc.org
SUMMARY:Staff Parish Relations Committee Meeting
DESCRIPTION:
URL:https://www.prumc.org/event/staff-parish-relations-committee-meeting/
LOCATION:A101\, 3180 Peachtree Road\, NE\, Atlanta\, GA\, 30305\, United States
CATEGORIES:Church Business
ORGANIZER;CN="Peachtree Road United Methodist Church":MAILTO:info@prumc.org
END:VEVENT
BEGIN:VEVENT
DTSTART;TZID=America/Indiana/Indianapolis:20240819T173000
DTEND;TZID=America/Indiana/Indianapolis:20240819T183000
DTSTAMP:20260423T082452
CREATED:20240718T131929Z
LAST-MODIFIED:20240718T131929Z
UID:10000702-1724088600-1724092200@www.prumc.org
SUMMARY:Executive Council Meeting
DESCRIPTION:
URL:https://www.prumc.org/event/executive-council-meeting/
LOCATION:A101\, 3180 Peachtree Road\, NE\, Atlanta\, GA\, 30305\, United States
CATEGORIES:Church Business
ORGANIZER;CN="Peachtree Road United Methodist Church":MAILTO:info@prumc.org
END:VEVENT
END:VCALENDAR