BEGIN:VCALENDAR
VERSION:2.0
PRODID:-//Peachtree Road United Methodist Church - ECPv6.15.17.1//NONSGML v1.0//EN
CALSCALE:GREGORIAN
METHOD:PUBLISH
X-WR-CALNAME:Peachtree Road United Methodist Church
X-ORIGINAL-URL:https://www.prumc.org
X-WR-CALDESC:Events for Peachtree Road United Methodist Church
REFRESH-INTERVAL;VALUE=DURATION:PT1H
X-Robots-Tag:noindex
X-PUBLISHED-TTL:PT1H
BEGIN:VTIMEZONE
TZID:America/Indiana/Indianapolis
BEGIN:DAYLIGHT
TZOFFSETFROM:-0500
TZOFFSETTO:-0400
TZNAME:EDT
DTSTART:20230312T070000
END:DAYLIGHT
BEGIN:STANDARD
TZOFFSETFROM:-0400
TZOFFSETTO:-0500
TZNAME:EST
DTSTART:20231105T060000
END:STANDARD
BEGIN:DAYLIGHT
TZOFFSETFROM:-0500
TZOFFSETTO:-0400
TZNAME:EDT
DTSTART:20240310T070000
END:DAYLIGHT
BEGIN:STANDARD
TZOFFSETFROM:-0400
TZOFFSETTO:-0500
TZNAME:EST
DTSTART:20241103T060000
END:STANDARD
BEGIN:DAYLIGHT
TZOFFSETFROM:-0500
TZOFFSETTO:-0400
TZNAME:EDT
DTSTART:20250309T070000
END:DAYLIGHT
BEGIN:STANDARD
TZOFFSETFROM:-0400
TZOFFSETTO:-0500
TZNAME:EST
DTSTART:20251102T060000
END:STANDARD
END:VTIMEZONE
BEGIN:VEVENT
DTSTART;TZID=America/Indiana/Indianapolis:20240904T130000
DTEND;TZID=America/Indiana/Indianapolis:20240904T140000
DTSTAMP:20260423T095644
CREATED:20240828T153011Z
LAST-MODIFIED:20240828T153011Z
UID:10000762-1725454800-1725458400@www.prumc.org
SUMMARY:Seasoned Saints Midweek Program
DESCRIPTION:Wednesdays\, 1:00 pm\, C106\nRSVP to Heather C. Holdridge at heatherch@prumc.org or 404.240.8302. \nSep 4 “A” Bingo Bring a $5 wrapped prize that starts with the letter “A”.
URL:https://www.prumc.org/event/seasoned-saints-midweek-program/
LOCATION:C106\, 3180 Peachtree Rd NE\, Atlanta\, GA\, 30080\, United States
CATEGORIES:Older Adults
ORGANIZER;CN="Peachtree Road United Methodist Church":MAILTO:info@prumc.org
END:VEVENT
BEGIN:VEVENT
DTSTART;TZID=America/Indiana/Indianapolis:20240904T103000
DTEND;TZID=America/Indiana/Indianapolis:20240904T170000
DTSTAMP:20260423T095644
CREATED:20240827T145103Z
LAST-MODIFIED:20240827T145103Z
UID:10000760-1725445800-1725469200@www.prumc.org
SUMMARY:Journey Together Begins
DESCRIPTION:Wednesdays\, 10:30 am\, C106\nStarting September 4\n15 weeks \n\n\n\n\nLed by Janice McGalliard and Rev. Leslie Watkins \nSep 4 – Oct 9: Revival: Faith as Wesley Lived It by Adam Hamilton\nOct 16 – Dec 11: Deborah: Unlikely Heroes and the Book of Judges by Sandra Richter\nDec 18: Advent Reflections \nRegister here.
URL:https://www.prumc.org/event/journey-together-begins/
LOCATION:C106\, 3180 Peachtree Rd NE\, Atlanta\, GA\, 30080\, United States
CATEGORIES:Adult Education
ORGANIZER;CN="Peachtree Road United Methodist Church":MAILTO:info@prumc.org
END:VEVENT
BEGIN:VEVENT
DTSTART;TZID=America/Indiana/Indianapolis:20240904T093000
DTEND;TZID=America/Indiana/Indianapolis:20240904T103000
DTSTAMP:20260423T095644
CREATED:20240818T170337Z
LAST-MODIFIED:20240820T222523Z
UID:10000737-1725442200-1725445800@www.prumc.org
SUMMARY:More Than Sparrows Women's Study Begins
DESCRIPTION:Join us for an invigorating 10-week study on how Christ nourishes us. We will weave in the New Testament as we dive in to discover how to be full of His glory in this wild\, hard\, beautiful life. Each week you will receive inspiring emails with scripture readings. Our goal is to get you so filled with the awe-inspiring word of God that you are ready for the week ahead\, and have anchors for the years ahead. Come just as you are for this welcoming class that empowers incredible connection with relatable\, authentic\, loving women. Coffee and childcare provided. Zoom link available for each class. Firm stop and start times. \nRegister here. \nWednesdays\, 9:30 am\, Harp Center\nLed by Sarah Crossman Sullivan\, Amy Dickie\, Lezlie Welty \nStarting September 4\n10 weeks
URL:https://www.prumc.org/event/more-than-sparrows-womens-study-begins/
LOCATION:Harp Student Center\, 3180 Peachtree Rd NE\, Atlanta\, GA\, 30305\, United States
CATEGORIES:Adult Education
ORGANIZER;CN="Peachtree Road United Methodist Church":MAILTO:info@prumc.org
END:VEVENT
BEGIN:VEVENT
DTSTART;VALUE=DATE:20240904
DTEND;VALUE=DATE:20240905
DTSTAMP:20260423T095644
CREATED:20240723T154824Z
LAST-MODIFIED:20240818T164550Z
UID:10000711-1725408000-1725494399@www.prumc.org
SUMMARY:Children's Choir Rehearsals Begin
DESCRIPTION:We’re so excited to welcome your child to a wonderful year of singing\, service\, and fun ahead in choir!  For PRUMC’s special 100th year\, we have an amazing program planned. At every level\, your child will grow in their ability to worship\, love music\, be part of a team\, and make new friends. Find fun\, spirit\, and a PRUMC home in our choirs! \nFor more information\, contact Kathy Fletcher at kathyf@prumc.org. \nRegister here.
URL:https://www.prumc.org/event/childrens-choir-rehearsals-begin/
LOCATION:PRUMC\, 3180 Peachtree Road\, NE\, Atlanta\, GA\, 30305\, United States
CATEGORIES:Children,Choir,Music
ORGANIZER;CN="Peachtree Road United Methodist Church":MAILTO:info@prumc.org
END:VEVENT
BEGIN:VEVENT
DTSTART;TZID=America/Indiana/Indianapolis:20240826T180000
DTEND;TZID=America/Indiana/Indianapolis:20240826T200000
DTSTAMP:20260423T095644
CREATED:20240718T144559Z
LAST-MODIFIED:20240718T144559Z
UID:10000704-1724695200-1724702400@www.prumc.org
SUMMARY:Administrative Board Meeting
DESCRIPTION:
URL:https://www.prumc.org/event/administrative-board-meeting/
LOCATION:Grace Hall\, 3180 Peachtree Rd NE\, Atlanta\, GA\, 30305\, United States
CATEGORIES:Church Business
ORGANIZER;CN="Peachtree Road United Methodist Church":MAILTO:info@prumc.org
END:VEVENT
BEGIN:VEVENT
DTSTART;TZID=America/Indiana/Indianapolis:20240825T123000
DTEND;TZID=America/Indiana/Indianapolis:20240825T140000
DTSTAMP:20260423T095644
CREATED:20240501T024256Z
LAST-MODIFIED:20240624T175143Z
UID:10000274-1724589000-1724594400@www.prumc.org
SUMMARY:Tea with the Clergy
DESCRIPTION:Get to know our church and ministers better at this casual afternoon gathering. Our clergy will answer questions\, share their vision\, and help you connect to areas of interest within the church. After conversation wraps up\, those who wish to take the next step in membership may join in a brief chapel service. For more information or to RSVP\, please contact Brittany Charron at brittanyc@prumc.org.
URL:https://www.prumc.org/event/tea-with-the-clergy/
LOCATION:Hospitality Suite\, 3180 Peachtree Rd NE\, Atlanta\, GA\, 30305\, United States
CATEGORIES:Membership
ORGANIZER;CN="Peachtree Road United Methodist Church":MAILTO:info@prumc.org
END:VEVENT
BEGIN:VEVENT
DTSTART;TZID=America/Indiana/Indianapolis:20240825T100000
DTEND;TZID=America/Indiana/Indianapolis:20240825T110000
DTSTAMP:20260423T095644
CREATED:20240501T023952Z
LAST-MODIFIED:20240723T203723Z
UID:10000273-1724580000-1724583600@www.prumc.org
SUMMARY:Youth Parent Open House
DESCRIPTION:We’ll share the information you need for a great year ahead! All youth (6th—12th grade) and their parents will learn about important dates\, trip information\, and forms for the upcoming year. We’ll see you there!
URL:https://www.prumc.org/event/youth-parent-open-house/
LOCATION:Harp Student Center\, 3180 Peachtree Rd NE\, Atlanta\, GA\, 30305\, United States
CATEGORIES:Youth
ORGANIZER;CN="Peachtree Road United Methodist Church":MAILTO:info@prumc.org
END:VEVENT
BEGIN:VEVENT
DTSTART;TZID=America/Indiana/Indianapolis:20240825T090000
DTEND;TZID=America/Indiana/Indianapolis:20240825T100000
DTSTAMP:20260423T095644
CREATED:20240501T023306Z
LAST-MODIFIED:20240723T214538Z
UID:10000272-1724576400-1724580000@www.prumc.org
SUMMARY:Confirmation Parent Meeting
DESCRIPTION:All 6th grade families\, come find out more about this year’s Confirmation class\, which is starting soon! If you have not yet received a welcome email\, please contact Rachel Hockman at rachelbh@prumc.org.
URL:https://www.prumc.org/event/confirmation-parent-meeting/
LOCATION:Harp Student Center\, 3180 Peachtree Rd NE\, Atlanta\, GA\, 30305\, United States
CATEGORIES:Youth
ORGANIZER;CN="Peachtree Road United Methodist Church":MAILTO:info@prumc.org
END:VEVENT
BEGIN:VEVENT
DTSTART;TZID=America/Indiana/Indianapolis:20240825T084500
DTEND;TZID=America/Indiana/Indianapolis:20240825T121500
DTSTAMP:20260423T095644
CREATED:20240501T022949Z
LAST-MODIFIED:20240723T200533Z
UID:10000271-1724575500-1724588100@www.prumc.org
SUMMARY:Promotion Sunday
DESCRIPTION:We’re so excited to welcome all our children to new classes to meet new teachers\, and experience God’s presence through our AWESOME Children’s Ministries offerings! All children\, from birth through 5th grade\, move to new classes and meet new teachers as we experience God’s presence every week.
URL:https://www.prumc.org/event/promotion-sunday/
LOCATION:PRUMC Children’s Building\, 3180 Peachtree Road\, NE\, Atlanta\, GA\, 30305\, United States
CATEGORIES:Children
ORGANIZER;CN="Peachtree Road United Methodist Church":MAILTO:info@prumc.org
END:VEVENT
BEGIN:VEVENT
DTSTART;TZID=America/Indiana/Indianapolis:20240824T193000
DTEND;TZID=America/Indiana/Indianapolis:20240824T223000
DTSTAMP:20260423T095644
CREATED:20240716T201108Z
LAST-MODIFIED:20240817T194120Z
UID:10000696-1724527800-1724538600@www.prumc.org
SUMMARY:Youth Braves Night!
DESCRIPTION:Join us for a fun night at the Braves to wrap up the summer!    Tickets are $35\, plus extra cash for snacks.  Drop off and pick up at Cobb Galleria Centre.  Questions?  Contact Rachel Hockman at rachelbh@prumc.org.
URL:https://www.prumc.org/event/youth-to-braves-game/
LOCATION:PRUMC\, 3180 Peachtree Road\, NE\, Atlanta\, GA\, 30305\, United States
CATEGORIES:Youth
ORGANIZER;CN="Peachtree Road United Methodist Church":MAILTO:info@prumc.org
END:VEVENT
BEGIN:VEVENT
DTSTART;TZID=America/Indiana/Indianapolis:20240820T180000
DTEND;TZID=America/Indiana/Indianapolis:20240820T193000
DTSTAMP:20260423T095644
CREATED:20240718T144525Z
LAST-MODIFIED:20240718T144525Z
UID:10000703-1724176800-1724182200@www.prumc.org
SUMMARY:Staff Parish Relations Committee Meeting
DESCRIPTION:
URL:https://www.prumc.org/event/staff-parish-relations-committee-meeting/
LOCATION:A101\, 3180 Peachtree Road\, NE\, Atlanta\, GA\, 30305\, United States
CATEGORIES:Church Business
ORGANIZER;CN="Peachtree Road United Methodist Church":MAILTO:info@prumc.org
END:VEVENT
BEGIN:VEVENT
DTSTART;TZID=America/Indiana/Indianapolis:20240819T173000
DTEND;TZID=America/Indiana/Indianapolis:20240819T183000
DTSTAMP:20260423T095644
CREATED:20240718T131929Z
LAST-MODIFIED:20240718T131929Z
UID:10000702-1724088600-1724092200@www.prumc.org
SUMMARY:Executive Council Meeting
DESCRIPTION:
URL:https://www.prumc.org/event/executive-council-meeting/
LOCATION:A101\, 3180 Peachtree Road\, NE\, Atlanta\, GA\, 30305\, United States
CATEGORIES:Church Business
ORGANIZER;CN="Peachtree Road United Methodist Church":MAILTO:info@prumc.org
END:VEVENT
BEGIN:VEVENT
DTSTART;TZID=America/Indiana/Indianapolis:20240819T080000
DTEND;TZID=America/Indiana/Indianapolis:20240819T170000
DTSTAMP:20260423T095644
CREATED:20240819T164737Z
LAST-MODIFIED:20240819T164930Z
UID:10000751-1724054400-1724086800@www.prumc.org
SUMMARY:UMKF - Bingo!
DESCRIPTION:Dinner\, devotions and fun for our 3rd\, 4th and 5th graders.\nRegister here.
URL:https://www.prumc.org/event/umkf-bingo/
LOCATION:The Loft\, GA
CATEGORIES:Children
ORGANIZER;CN="Peachtree Road United Methodist Church":MAILTO:info@prumc.org
END:VEVENT
BEGIN:VEVENT
DTSTART;TZID=America/Indiana/Indianapolis:20240818T160000
DTEND;TZID=America/Indiana/Indianapolis:20240818T170000
DTSTAMP:20260423T095644
CREATED:20240711T201520Z
LAST-MODIFIED:20240711T202031Z
UID:10000687-1723996800-1724000400@www.prumc.org
SUMMARY:Chrismon Workshop
DESCRIPTION:With Pat Price & Elizabeth Reinhardt \nSunday\, August 18\, 4:00 pm\, Harp Center\nEach year at Advent\, elegant gold and white Chrismons adorn a magnificent tree in our sanctuary.  It is a beautiful and meaningful tradition\, and now you can make it yours!  We are excited to offer a special Chrismon workshop led by Pat Price & Elizabeth Reinhardt.  Attendees will create three different Chrismons to keep – each with its own symbolism and style. $25 covers materials\, and space is limited to 30 attendees. \nRegister Here
URL:https://www.prumc.org/event/chrismon-workshop-with-pat-price-elizabeth-reinhardt/
LOCATION:Harp Student Center\, 3180 Peachtree Rd NE\, Atlanta\, GA\, 30305\, United States
CATEGORIES:Worship
ATTACH;FMTTYPE=image/jpeg:https://www.prumc.org/wp-content/uploads/2024/07/Star_Chrismon-1.jpg
ORGANIZER;CN="Peachtree Road United Methodist Church":MAILTO:info@prumc.org
END:VEVENT
BEGIN:VEVENT
DTSTART;TZID=America/Indiana/Indianapolis:20240818T110000
DTEND;TZID=America/Indiana/Indianapolis:20240818T130000
DTSTAMP:20260423T095644
CREATED:20240501T022647Z
LAST-MODIFIED:20240817T193654Z
UID:10000270-1723978800-1723986000@www.prumc.org
SUMMARY:Summer Send-off Fellowship Luncheon
DESCRIPTION:Join us for a delicious meal and fun fellowship with your church family.  We will enjoy the last days of summer with great food and conversation.  Our menu will feature BBQ chicken\, corn on the cob\, pasta salad\, watermelon\, and cupcakes.  This meal is complimentary\, and we look forward to seeing you!
URL:https://www.prumc.org/event/heaven-sunday-fellowship-luncheon/
LOCATION:Grace Hall\, 3180 Peachtree Rd NE\, Atlanta\, GA\, 30305\, United States
CATEGORIES:Food Service
ORGANIZER;CN="Peachtree Road United Methodist Church":MAILTO:info@prumc.org
END:VEVENT
BEGIN:VEVENT
DTSTART;TZID=America/Indiana/Indianapolis:20240817T100000
DTEND;TZID=America/Indiana/Indianapolis:20240817T133000
DTSTAMP:20260423T095644
CREATED:20240624T130258Z
LAST-MODIFIED:20240624T131222Z
UID:10000686-1723888800-1723901400@www.prumc.org
SUMMARY:Atlanta Civil Rights Experience
DESCRIPTION:The National Center for Civil and Human Rights is a museum and human rights organization in Atlanta inspires people to tap their own power to change the world around them. The Center’s iconic exhibitions feature the papers and artifacts of Dr. Martin Luther King\, Jr.; the history of the civil rights movement in the United States; and stories from the struggle for human rights around the world today. \nPRUMC and Cascade UMC will visit the Center and then share a meal together at Mary Mac’s Tea Room.  Due to the nature of our group reservations\, this experience is capped at 60 total participants. \nREGISTER HERE. \nMeet at The National Center for Civil and Human Rights\, located at 100 Ivan Allen Jr Blvd NW\, Atlanta\, GA 30313.\n10:00 am – 11:45 am:  The National Center for Civil and Human Rights ($15/person for group tour)\n12:15 – 1:30 pm: Mary Mac’s Tea Room ($35/person for buffet lunch)
URL:https://www.prumc.org/event/atlanta-civil-rights-experience/
LOCATION:The National Center for Civil and Human Rights\, 100 Ivan Allen Jr Blvd NW\,\, Atlanta\, 30313\, United States
CATEGORIES:Racial Justice
ATTACH;FMTTYPE=image/jpeg:https://www.prumc.org/wp-content/uploads/2024/06/06_Atl_Ctr_Human_Rights_Tour_1920-scaled.jpg
ORGANIZER;CN="Peachtree Road United Methodist Church":MAILTO:info@prumc.org
END:VEVENT
BEGIN:VEVENT
DTSTART;TZID=America/Indiana/Indianapolis:20240816T070000
DTEND;TZID=America/Indiana/Indianapolis:20240816T080000
DTSTAMP:20260423T095644
CREATED:20240603T142802Z
LAST-MODIFIED:20240717T142621Z
UID:10000683-1723791600-1723795200@www.prumc.org
SUMMARY:Men's Breakfast with Scott Parrish
DESCRIPTION:PRUMC’s men’s breakfasts are a great way to expand your connections within the church and grow in your faith. We have a guest speaker for each event\, and our guest speaker for this breakfast is Rev. Scott Parrish. Scott leads our North Georgia Conference UMCOR disaster relief & recovery efforts. He’s been active with disaster ministries since 1995 in over 50 events throughout the southeast\, from Hurricanes Floyd and Katrine to recent GA impacts\, including the Ringgold tornado and Newnan tornado disasters. Scott has seen God’s hand at work in the church’s efforts\, and he’ll speak on the topic of “Serving the Community in Disaster.” We invite you to join the men of the church for an inspiring conversation as we consider the complexities of disaster relief and God’s will for us as practical solutions are implemented. We hope to see you at PRUMC on Friday\, August 16\, from 7am to 8am in Heritage Hall. For more information\, contact Rev. Geoff Beakley at geoffb@prumc.org. \nRegister here
URL:https://www.prumc.org/event/mens-breakfast-with-scott-parish/
LOCATION:Heritage Hall\, 3180 Peachtree Rd NE\, Atlanta\, GA\, 30305\, United States
CATEGORIES:Men
ORGANIZER;CN="Peachtree Road United Methodist Church":MAILTO:info@prumc.org
END:VEVENT
BEGIN:VEVENT
DTSTART;VALUE=DATE:20240815
DTEND;VALUE=DATE:20240816
DTSTAMP:20260423T095644
CREATED:20240501T022329Z
LAST-MODIFIED:20240723T155411Z
UID:10000269-1723680000-1723766399@www.prumc.org
SUMMARY:Children & Youth Choir Registration Opens
DESCRIPTION:For PRUMC’s special 100th year\, we have an amazing program planned for your students!  Kathy Fletcher will be directing our youngest members\, the Cherub Choir\, and all children’s choirs will be performing in the fun spring musical “Oh\, Jonah!”.  Our Doxology Youth Choir will head west on tour\, visiting Yellowstone and Grand Teton next summer to sing\, serve\, and celebrate our glorious national parks.  Find friends\, fun\, spirit\, and a PRUMC home in our choirs. \n\nOnline registration opens August 15 here. \nDoxology rehearsals begin August 25.\nChildren’s Choir rehearsals begin September 3.\n\nFor more information\, contact Kathy Fletcher at kathyf@prumc.org.
URL:https://www.prumc.org/event/choir-registration-opens/
CATEGORIES:Children,Choir,Music,Youth
ORGANIZER;CN="Peachtree Road United Methodist Church":MAILTO:info@prumc.org
END:VEVENT
BEGIN:VEVENT
DTSTART;TZID=America/Indiana/Indianapolis:20240814T180000
DTEND;TZID=America/Indiana/Indianapolis:20240814T190000
DTSTAMP:20260423T095644
CREATED:20240718T132233Z
LAST-MODIFIED:20240730T155404Z
UID:10000701-1723658400-1723662000@www.prumc.org
SUMMARY:Finance Committee Meeting
DESCRIPTION:
URL:https://www.prumc.org/event/finance-committee-meeting/
LOCATION:C106\, 3180 Peachtree Rd NE\, Atlanta\, GA\, 30080\, United States
CATEGORIES:Church Business
ORGANIZER;CN="Peachtree Road United Methodist Church":MAILTO:info@prumc.org
END:VEVENT
BEGIN:VEVENT
DTSTART;TZID=America/Indiana/Indianapolis:20240811T173000
DTEND;TZID=America/Indiana/Indianapolis:20240811T190000
DTSTAMP:20260423T095644
CREATED:20240717T145437Z
LAST-MODIFIED:20240717T145811Z
UID:10000698-1723397400-1723402800@www.prumc.org
SUMMARY:Men’s Dinner at Trinity House Dinner
DESCRIPTION:Every other month\, volunteers host a dinner for the men of Trinity House. The lead volunteer gathers 5 to 8 more volunteers. Then men deliver food provided by the Men’s Ministry and dine and converse with the Trinity men. \nTo participate in this rewarding experience\, please contact Geoff at geoffb@prumc.org.
URL:https://www.prumc.org/event/mens-dinner-at-trinity-house-dinner/
LOCATION:Trinity Community Ministries\, 21 Bell Street\, Atlanta\, GA\, 30303\, United States
CATEGORIES:Men
ORGANIZER;CN="Peachtree Road United Methodist Church":MAILTO:info@prumc.org
END:VEVENT
BEGIN:VEVENT
DTSTART;TZID=America/Indiana/Indianapolis:20240807T190000
DTEND;TZID=America/Indiana/Indianapolis:20240807T210000
DTSTAMP:20260423T095644
CREATED:20240723T154201Z
LAST-MODIFIED:20240723T154611Z
UID:10000710-1723057200-1723064400@www.prumc.org
SUMMARY:Adult Choir Rehearsals Begin
DESCRIPTION:Join the Chancel Choir for our Centennial Season! Joining a choir at Peachtree Road is a deeply fulfilling experience. As you express your faith through music\, you enhance each service for the worshiping congregation. If you love to sing\, we have a place for you! No audition is necessary\, but an interview with the Director of Music is requested.  Childcare is available during rehearsal times. \nContact Scott Atchison at scotta@prumc.org.
URL:https://www.prumc.org/event/adult-choir-rehearsals-begin/
LOCATION:Music Suite\, 3180 Peachtree Rd NE\, Atlanta\, GA\, 30305\, United States
CATEGORIES:Choir,Music
ORGANIZER;CN="Peachtree Road United Methodist Church":MAILTO:info@prumc.org
END:VEVENT
BEGIN:VEVENT
DTSTART;TZID=America/Indiana/Indianapolis:20240804T130000
DTEND;TZID=America/Indiana/Indianapolis:20240804T160000
DTSTAMP:20260423T095644
CREATED:20240716T201013Z
LAST-MODIFIED:20240716T201013Z
UID:10000695-1722776400-1722787200@www.prumc.org
SUMMARY:Youth to Dave & Buster’s
DESCRIPTION:Meet and pick up at Dave and Buster’s. Register and pay online – $20 includes lunch.
URL:https://www.prumc.org/event/youth-to-dave-busters/
LOCATION:PRUMC\, 3180 Peachtree Road\, NE\, Atlanta\, GA\, 30305\, United States
CATEGORIES:Youth
ORGANIZER;CN="Peachtree Road United Methodist Church":MAILTO:info@prumc.org
END:VEVENT
BEGIN:VEVENT
DTSTART;TZID=America/Indiana/Indianapolis:20240731T120000
DTEND;TZID=America/Indiana/Indianapolis:20240731T150000
DTSTAMP:20260423T095644
CREATED:20240716T200909Z
LAST-MODIFIED:20240716T200909Z
UID:10000694-1722427200-1722438000@www.prumc.org
SUMMARY:Youth Harp Center Lunch & Hang
DESCRIPTION:
URL:https://www.prumc.org/event/youth-harp-center-lunch-hang/
LOCATION:PRUMC\, 3180 Peachtree Road\, NE\, Atlanta\, GA\, 30305\, United States
CATEGORIES:Youth
ORGANIZER;CN="Peachtree Road United Methodist Church":MAILTO:info@prumc.org
END:VEVENT
BEGIN:VEVENT
DTSTART;TZID=America/Indiana/Indianapolis:20240728T180000
DTEND;TZID=America/Indiana/Indianapolis:20240728T200000
DTSTAMP:20260423T095644
CREATED:20240603T142448Z
LAST-MODIFIED:20240624T145104Z
UID:10000682-1722189600-1722196800@www.prumc.org
SUMMARY:BBQ and the Olympics
DESCRIPTION:The Olympics are this summer in France\, and on July 28\, the men of PRUMC will gather to eat some BBQ and watch the finals of several sports on the big screen in Grace Hall at the church. \nThe finals include archery\, canoe slalom\, fencing\, judo\, shooting\, and skateboarding. Other events that day include gymnastics\, beach volleyball\, boxing\, hockey\, rowing\, rugby\, sailing\, shooting\, swimming\, and tennis. It will be a great time to hang out with friends\, eat some food\, and enjoy some sports. \nThere is not a cost to attend but we do need you to register for the headcount for food.  For more information\, contact Rev. Geoff Beakley at geoffb@prumc.org \n\nRSVP HERE
URL:https://www.prumc.org/event/bbq-and-the-olympics/
LOCATION:Grace Hall\, 3180 Peachtree Rd NE\, Atlanta\, GA\, 30305\, United States
CATEGORIES:Men
ATTACH;FMTTYPE=image/jpeg:https://www.prumc.org/wp-content/uploads/2024/06/07_Mens_Olympic_BBQ_1920-scaled.jpg
ORGANIZER;CN="Peachtree Road United Methodist Church":MAILTO:info@prumc.org
END:VEVENT
BEGIN:VEVENT
DTSTART;TZID=America/Indiana/Indianapolis:20240725T193000
DTEND;TZID=America/Indiana/Indianapolis:20240725T213000
DTSTAMP:20260423T095644
CREATED:20240728T191450Z
LAST-MODIFIED:20240728T191450Z
UID:10000719-1721935800-1721943000@www.prumc.org
SUMMARY:Atlanta Summer Organ Festival
DESCRIPTION:Heralded as “one of the finest organists and teachers of our day\,” by Zachary Woolfe of The New York Times\, the internationally celebrated organist Paul Jacobs combines a probing intellect and extraordinary technical mastery with an unusually large repertoire\, both old and new.  A fierce advocate of new music\, Mr. Jacobs has premiered works by Samuel Adler\, Mason Bates\, Michael Daugherty\, Bernd Richard Deutsch\, John Harbison\, Wayne Oquin\, Stephen Paulus\, Christopher Theofanidis\, and Christopher Rouse\, among others. \nNo other organist is repeatedly invited as soloist to perform with prestigious orchestras\, thus making him a pioneer in the movement for the revival of symphonic music featuring the organ. Mr. Jacobs regularly appears with the Chicago Symphony\, Cincinnati Symphony\, Cleveland Orchestra\, Los Angeles Philharmonic\, Lucerne Symphony Orchestra\, Montreal Symphony\, Nashville Symphony\, National Symphony Orchestra\, Philadelphia Orchestra\, and San Francisco  Symphony\, among others. \nMr. Jacobs studied at the Curtis Institute of Music and at Yale University. He joined the faculty of The Juilliard School in 2003 and was named chairman of the organ department in 2004\, one of the youngest faculty appointees in the school’s history. \nThe Atlanta Summer Organ Festival was established in 1995 to help increase classical music performances in the summer and PRUMC joined as a host in 2002.  To this day\, the festival continues the tradition of offering a series of wonderful venues for both established and talented rising young organists. \n$15 suggested donation \nDessert reception following
URL:https://www.prumc.org/event/atlanta-summer-organ-festival-2/
LOCATION:Sanctuary\, 3180 Peachtree Rd NE\, Atlanta\, GA\, 30305\, United States
CATEGORIES:Music
ORGANIZER;CN="Peachtree Road United Methodist Church":MAILTO:info@prumc.org
END:VEVENT
BEGIN:VEVENT
DTSTART;TZID=America/Indiana/Indianapolis:20240718T180000
DTEND;TZID=America/Indiana/Indianapolis:20240718T200000
DTSTAMP:20260423T095644
CREATED:20240718T144921Z
LAST-MODIFIED:20240718T144921Z
UID:10000708-1721325600-1721332800@www.prumc.org
SUMMARY:Administrative Boad Meeting
DESCRIPTION:
URL:https://www.prumc.org/event/administrative-boad-meeting/
LOCATION:Grace Hall\, 3180 Peachtree Rd NE\, Atlanta\, GA\, 30305\, United States
CATEGORIES:Church Business
ORGANIZER;CN="Peachtree Road United Methodist Church":MAILTO:info@prumc.org
END:VEVENT
BEGIN:VEVENT
DTSTART;TZID=America/Indiana/Indianapolis:20240717T171500
DTEND;TZID=America/Indiana/Indianapolis:20240717T221500
DTSTAMP:20260423T095644
CREATED:20240716T200823Z
LAST-MODIFIED:20240716T200823Z
UID:10000693-1721236500-1721254500@www.prumc.org
SUMMARY:Youth to Atlanta United Game
DESCRIPTION:We will carpool from the church to the game (7:30 – 10:15 pm). $35 for tickets plus cash for food.
URL:https://www.prumc.org/event/youth-to-atlanta-united-game/
LOCATION:PRUMC\, 3180 Peachtree Road\, NE\, Atlanta\, GA\, 30305\, United States
CATEGORIES:Youth
ORGANIZER;CN="Peachtree Road United Methodist Church":MAILTO:info@prumc.org
END:VEVENT
BEGIN:VEVENT
DTSTART;VALUE=DATE:20240707
DTEND;VALUE=DATE:20240713
DTSTAMP:20260423T095644
CREATED:20231226T190934Z
LAST-MODIFIED:20240624T171837Z
UID:10000027-1720310400-1720828799@www.prumc.org
SUMMARY:Middle School Mission Trip
DESCRIPTION:We’ll serve the residents of Frakes\, KY in partnership with Henderson Settlement.\nRegister here.
URL:https://www.prumc.org/event/middle-school-mission-trip/
CATEGORIES:Youth
ORGANIZER;CN="Peachtree Road United Methodist Church":MAILTO:info@prumc.org
END:VEVENT
BEGIN:VEVENT
DTSTART;TZID=America/Indiana/Indianapolis:20240704T070000
DTEND;TZID=America/Indiana/Indianapolis:20240704T093000
DTSTAMP:20260423T095644
CREATED:20240501T021606Z
LAST-MODIFIED:20240625T181812Z
UID:10000267-1720076400-1720085400@www.prumc.org
SUMMARY:Party on Peachtree!
DESCRIPTION:Celebrate an Atlanta and PRUMC tradition!  Join us out front to cheer on the participants of the Peachtree Road Race. We will have coffee\, pastries\, party favors\, and a great view of the race. To volunteer\, contact Brittany Charron at brittanyc@prumc.org.
URL:https://www.prumc.org/event/party-on-peachtree/
LOCATION:PRUMC\, 3180 Peachtree Road\, NE\, Atlanta\, GA\, 30305\, United States
CATEGORIES:Hospitality
ATTACH;FMTTYPE=image/jpeg:https://www.prumc.org/wp-content/uploads/2024/06/03_Party_Peachtree_1920_2024-scaled.jpg
ORGANIZER;CN="Peachtree Road United Methodist Church":MAILTO:info@prumc.org
END:VEVENT
BEGIN:VEVENT
DTSTART;TZID=America/Indiana/Indianapolis:20240623T110000
DTEND;TZID=America/Indiana/Indianapolis:20240623T130000
DTSTAMP:20260423T095644
CREATED:20240501T021114Z
LAST-MODIFIED:20240501T021214Z
UID:10000265-1719140400-1719147600@www.prumc.org
SUMMARY:Fried Chicken Fellowship Luncheon
DESCRIPTION:Join us for a delicious meal and warm fellowship with your church family. Enjoy fried chicken\, potato salad\, tomato & cucumber salad\, and peach cobbler. This meal is complimentary. We look forward to seeing you!
URL:https://www.prumc.org/event/fried-chicken-fellowship-luncheon/
LOCATION:Grace Hall\, 3180 Peachtree Rd NE\, Atlanta\, GA\, 30305\, United States
CATEGORIES:Food Service
ORGANIZER;CN="Peachtree Road United Methodist Church":MAILTO:info@prumc.org
END:VEVENT
END:VCALENDAR