BEGIN:VCALENDAR
VERSION:2.0
PRODID:-//Peachtree Road United Methodist Church - ECPv6.15.17.1//NONSGML v1.0//EN
CALSCALE:GREGORIAN
METHOD:PUBLISH
X-WR-CALNAME:Peachtree Road United Methodist Church
X-ORIGINAL-URL:https://www.prumc.org
X-WR-CALDESC:Events for Peachtree Road United Methodist Church
REFRESH-INTERVAL;VALUE=DURATION:PT1H
X-Robots-Tag:noindex
X-PUBLISHED-TTL:PT1H
BEGIN:VTIMEZONE
TZID:America/Indiana/Indianapolis
BEGIN:DAYLIGHT
TZOFFSETFROM:-0500
TZOFFSETTO:-0400
TZNAME:EDT
DTSTART:20230312T070000
END:DAYLIGHT
BEGIN:STANDARD
TZOFFSETFROM:-0400
TZOFFSETTO:-0500
TZNAME:EST
DTSTART:20231105T060000
END:STANDARD
BEGIN:DAYLIGHT
TZOFFSETFROM:-0500
TZOFFSETTO:-0400
TZNAME:EDT
DTSTART:20240310T070000
END:DAYLIGHT
BEGIN:STANDARD
TZOFFSETFROM:-0400
TZOFFSETTO:-0500
TZNAME:EST
DTSTART:20241103T060000
END:STANDARD
BEGIN:DAYLIGHT
TZOFFSETFROM:-0500
TZOFFSETTO:-0400
TZNAME:EDT
DTSTART:20250309T070000
END:DAYLIGHT
BEGIN:STANDARD
TZOFFSETFROM:-0400
TZOFFSETTO:-0500
TZNAME:EST
DTSTART:20251102T060000
END:STANDARD
END:VTIMEZONE
BEGIN:VEVENT
DTSTART;TZID=America/Indiana/Indianapolis:20240519T111500
DTEND;TZID=America/Indiana/Indianapolis:20240519T121500
DTSTAMP:20260423T125603
CREATED:20240430T215531Z
LAST-MODIFIED:20240430T215813Z
UID:10000255-1716117300-1716120900@www.prumc.org
SUMMARY:Pastoral Counseling Service 50th Anniversary
DESCRIPTION:Join us in worship as we recognize the compassion\, hope and healing that the professionals of the Pastoral Counseling Service have provided to us these past 50 years. The Pastoral Counseling Service (PCS) confidentially offers professional counseling and pastoral care to individuals\, couples and families. Our professional counselors are academically trained and clinically licensed by the State of Georgia. We are experienced in navigating life’s challenges and are committed to helping clients do the same.
URL:https://www.prumc.org/event/pastoral-counseling-service-50th-anniversary/
LOCATION:Sanctuary\, 3180 Peachtree Rd NE\, Atlanta\, GA\, 30305\, United States
CATEGORIES:Pastoral Counseling
ORGANIZER;CN="Peachtree Road United Methodist Church":MAILTO:info@prumc.org
END:VEVENT
BEGIN:VEVENT
DTSTART;TZID=America/Indiana/Indianapolis:20240515T120000
DTEND;TZID=America/Indiana/Indianapolis:20240515T123000
DTSTAMP:20260423T125603
CREATED:20240409T231225Z
LAST-MODIFIED:20240430T022827Z
UID:10000247-1715774400-1715776200@www.prumc.org
SUMMARY:Midday Music in May
DESCRIPTION:Enjoy anniversary themed 30-minute lunchtime organ recitals featuring the best of Atlanta’s organists who will share in the celebration of The Great Organ of Peachtree Road. \nMay 15Justin Maxey\, All Saints’ Episcopal Church\, Atlanta\, GA \nMay 22Sean Vogt\, Holy Innocents’ Episcopal Church\, Atlanta\, GA \nAdmission is free.
URL:https://www.prumc.org/event/midday-music-in-may-4/
LOCATION:Sanctuary\, 3180 Peachtree Rd NE\, Atlanta\, GA\, 30305\, United States
CATEGORIES:Music
ORGANIZER;CN="Peachtree Road United Methodist Church":MAILTO:info@prumc.org
END:VEVENT
BEGIN:VEVENT
DTSTART;TZID=America/Indiana/Indianapolis:20240512T100000
DTEND;TZID=America/Indiana/Indianapolis:20240512T110000
DTSTAMP:20260423T125603
CREATED:20240206T221924Z
LAST-MODIFIED:20240430T021941Z
UID:10000199-1715508000-1715511600@www.prumc.org
SUMMARY:Doxology Youth Choir Annual Mother's Day Concert
DESCRIPTION:Our youth singers have been refining their choir tour repertoire and are excited to present their program in a special preview concert. Please join us in support of our talented young musicians!
URL:https://www.prumc.org/event/doxology-youth-choir-concert-2024/
LOCATION:Grace Hall\, 3180 Peachtree Rd NE\, Atlanta\, GA\, 30305\, United States
CATEGORIES:Music
ORGANIZER;CN="Peachtree Road United Methodist Church":MAILTO:info@prumc.org
END:VEVENT
BEGIN:VEVENT
DTSTART;VALUE=DATE:20240512
DTEND;VALUE=DATE:20240513
DTSTAMP:20260423T125603
CREATED:20240430T015634Z
LAST-MODIFIED:20240430T021204Z
UID:10000254-1715472000-1715558399@www.prumc.org
SUMMARY:Mother's Day Offering for Wesley Woods
DESCRIPTION:Wesley Woods offers safe and supportive living for low-income senior adults in Georgia. Our annual Mother’s Day offering ensures that residents\, regardless of income\, can continue to live in a Wesley Woods home. By assisting with shelter\, healthcare\, and other necessities\, elderly residents are able to maintain a decent and dignified life. Please join us in giving generously to this Methodist foundation. \n\nGIVE HERE
URL:https://www.prumc.org/event/mothers-day-offering-for-wesley-woods/
CATEGORIES:Local Outreach
ORGANIZER;CN="Peachtree Road United Methodist Church":MAILTO:info@prumc.org
END:VEVENT
BEGIN:VEVENT
DTSTART;TZID=America/Indiana/Indianapolis:20240511T110000
DTEND;TZID=America/Indiana/Indianapolis:20240511T120000
DTSTAMP:20260423T125603
CREATED:20240409T220242Z
LAST-MODIFIED:20240430T012634Z
UID:10000241-1715425200-1715428800@www.prumc.org
SUMMARY:Flower Guild Workshop
DESCRIPTION:All are invited to learn arranging tips\, skills and perspectives from the talented  members of the PRUMC Flower Guild. No RSVP required and you are welcome to bring a friend. Join on this day in the Narthex as Elizabeth Reinhardt and Carolyn Hardwick teach how to arrange flower in the round.
URL:https://www.prumc.org/event/flower-guild-workshop/
LOCATION:Narthex
CATEGORIES:Worship
ORGANIZER;CN="Peachtree Road United Methodist Church":MAILTO:info@prumc.org
END:VEVENT
BEGIN:VEVENT
DTSTART;TZID=America/Indiana/Indianapolis:20240510T070000
DTEND;TZID=America/Indiana/Indianapolis:20240510T080000
DTSTAMP:20260423T125603
CREATED:20240407T113340Z
LAST-MODIFIED:20240430T012421Z
UID:10000232-1715324400-1715328000@www.prumc.org
SUMMARY:Men’s Breakfast:  “Understanding Your Values”
DESCRIPTION:PRUMC member Jim Eshleman is a board member of Trinity Community Ministries\, and a licensed architect and general contractor. Jim’s discussion will lead us through his personal journey of faith\, the challenges he faced\, and the path he is on to discern God’s truth for his life. Please join us! RSVP at prumc.org/events.  For more information\, contact Rev. Geoff Beakley at geoffb@prumc.org. \n			\n						REGISTER HERE
URL:https://www.prumc.org/event/mens-breakfast-understanding-your-values/
LOCATION:Heritage Hall\, 3180 Peachtree Rd NE\, Atlanta\, GA\, 30305\, United States
CATEGORIES:Men
ORGANIZER;CN="Peachtree Road United Methodist Church":MAILTO:info@prumc.org
END:VEVENT
BEGIN:VEVENT
DTSTART;TZID=America/Indiana/Indianapolis:20240508T120000
DTEND;TZID=America/Indiana/Indianapolis:20240508T123000
DTSTAMP:20260423T125603
CREATED:20240409T230604Z
LAST-MODIFIED:20240428T161540Z
UID:10000245-1715169600-1715171400@www.prumc.org
SUMMARY:Midday Music in May
DESCRIPTION:Enjoy anniversary themed 30-minute lunchtime organ recitals featuring the best of Atlanta’s organists who will share in the celebration of The Great Organ of Peachtree Road. \nMay 8Ted Babbitt\, Walnut Street Music at Christ Church\, Macon\, GA \nMay 15Justin Maxey\, All Saints’ Episcopal Church\, Atlanta\, GA \nMay 22Sean Vogt\, Holy Innocents’ Episcopal Church\, Atlanta\, GA \nAdmission is free.
URL:https://www.prumc.org/event/midday-music-in-may-2/
LOCATION:Sanctuary\, 3180 Peachtree Rd NE\, Atlanta\, GA\, 30305\, United States
CATEGORIES:Music
ORGANIZER;CN="Peachtree Road United Methodist Church":MAILTO:info@prumc.org
END:VEVENT
BEGIN:VEVENT
DTSTART;TZID=America/Indiana/Indianapolis:20240505T160000
DTEND;TZID=America/Indiana/Indianapolis:20240505T180000
DTSTAMP:20260423T125603
CREATED:20240430T015324Z
LAST-MODIFIED:20240430T015432Z
UID:10000253-1714924800-1714932000@www.prumc.org
SUMMARY:Music Academy Spring Recital
DESCRIPTION:Everyone is welcome to attend the first annual Music Academy Spring Recital. Come hear our students of all ages showcase their talents and what they have learned at The Academy this year! Reception to follow.
URL:https://www.prumc.org/event/music-academy-spring-recital/
LOCATION:Chapel\, 3180 Peachtree Rd NE\, Atlanta\, GA\, 30305\, United States
CATEGORIES:Music
ORGANIZER;CN="Peachtree Road United Methodist Church":MAILTO:info@prumc.org
END:VEVENT
BEGIN:VEVENT
DTSTART;TZID=America/Indiana/Indianapolis:20240505T110000
DTEND;TZID=America/Indiana/Indianapolis:20240505T130000
DTSTAMP:20260423T125603
CREATED:20240430T014324Z
LAST-MODIFIED:20240430T014703Z
UID:10000252-1714906800-1714914000@www.prumc.org
SUMMARY:Music Sunday Luncheon
DESCRIPTION:Join us for a delicious meal and warm fellowship today in Grace Hall. We are celebrating our Music Ministry with a special luncheon! We will enjoy chicken piccata\, herbed rice pilaf\, Italian green beans\, and tiramisu. This meal is complimentary and we hope to see you there!
URL:https://www.prumc.org/event/music-sunday-luncheon/
LOCATION:Grace Hall\, 3180 Peachtree Rd NE\, Atlanta\, GA\, 30305\, United States
CATEGORIES:Food Service,Music
ORGANIZER;CN="Peachtree Road United Methodist Church":MAILTO:info@prumc.org
END:VEVENT
BEGIN:VEVENT
DTSTART;TZID=America/Indiana/Indianapolis:20240505T100000
DTEND;TZID=America/Indiana/Indianapolis:20240505T110000
DTSTAMP:20260423T125603
CREATED:20240416T151444Z
LAST-MODIFIED:20240428T160459Z
UID:10000250-1714903200-1714906800@www.prumc.org
SUMMARY:Confirmation Preview
DESCRIPTION:All 5th graders will meet PRUMC youth\, confirmation leaders\, and staff to hear about the exciting year ahead! We will enjoy a tour of the Harp Student Center and treats in the game room. Parents pick up at the Harp Center at 11:00 am!
URL:https://www.prumc.org/event/confirmation-preview/
LOCATION:Sanctuary\, 3180 Peachtree Rd NE\, Atlanta\, GA\, 30305\, United States
CATEGORIES:Music
ORGANIZER;CN="Peachtree Road United Methodist Church":MAILTO:info@prumc.org
END:VEVENT
BEGIN:VEVENT
DTSTART;TZID=America/Indiana/Indianapolis:20240505T084500
DTEND;TZID=America/Indiana/Indianapolis:20240505T121500
DTSTAMP:20260423T125603
CREATED:20240430T013822Z
LAST-MODIFIED:20240430T013930Z
UID:10000251-1714898700-1714911300@www.prumc.org
SUMMARY:Music Sunday Worship
DESCRIPTION:Music Sunday is a day to honor and enjoy the talent and dedication of our musicians as well as recognize the importance of music as part of our worship experience. Thank you to all singers\, musicians\, staff\, volunteers\, parents\, and patrons of the exceptional music program here at Peachtree Road!
URL:https://www.prumc.org/event/music-sunday-worship/
LOCATION:Sanctuary\, 3180 Peachtree Rd NE\, Atlanta\, GA\, 30305\, United States
CATEGORIES:Music
ORGANIZER;CN="Peachtree Road United Methodist Church":MAILTO:info@prumc.org
END:VEVENT
BEGIN:VEVENT
DTSTART;TZID=America/Indiana/Indianapolis:20240501T120000
DTEND;TZID=America/Indiana/Indianapolis:20240501T123000
DTSTAMP:20260423T125603
CREATED:20240409T225923Z
LAST-MODIFIED:20240428T160759Z
UID:10000244-1714564800-1714566600@www.prumc.org
SUMMARY:Midday Music in May
DESCRIPTION:Enjoy anniversary themed 30-minute lunchtime organ recitals featuring the best of Atlanta’s organists who will share in the celebration of The Great Organ of Peachtree Road. \nMay 1Scott Atchison\, Oliver Brett\, Peachtree Road United Methodist Church \nMay 8Ted Babbitt\, Walnut Street Music at Christ Church\, Macon\, GA \nMay 15Justin Maxey\, All Saints’ Episcopal Church\, Atlanta\, GA \nMay 22Sean Vogt\, Holy Innocents’ Episcopal Church\, Atlanta\, GA \nAdmission is free. 
URL:https://www.prumc.org/event/midday-music-in-may/
LOCATION:Sanctuary\, 3180 Peachtree Rd NE\, Atlanta\, GA\, 30305\, United States
CATEGORIES:Music
ORGANIZER;CN="Peachtree Road United Methodist Church":MAILTO:info@prumc.org
END:VEVENT
BEGIN:VEVENT
DTSTART;TZID=America/Indiana/Indianapolis:20240428T173000
DTEND;TZID=America/Indiana/Indianapolis:20240428T190000
DTSTAMP:20260423T125603
CREATED:20240407T114608Z
LAST-MODIFIED:20240428T160253Z
UID:10000235-1714325400-1714330800@www.prumc.org
SUMMARY:UMKF Spring Grand Finale!
DESCRIPTION:3rd\, 4th and 5th graders – Meet at The Loft to celebrate our final UMKF until next Fall! Enjoy a pizza dinner\, giant inflatable obstacle course\, and fun games on the soccer field (weather permitting.)  \n			\n						REGISTER HERE
URL:https://www.prumc.org/event/umkf-spring-grand-finale/
LOCATION:The Loft\, GA
CATEGORIES:Children
ORGANIZER;CN="Peachtree Road United Methodist Church":MAILTO:info@prumc.org
END:VEVENT
END:VCALENDAR